|SUCCESS| pw143603-143605 [PATCH] [3/3] examples/ptpclient: add freq
dpdklab at iol.unh.edu
dpdklab at iol.unh.edu
Thu Sep 5 05:56:51 CEST 2024
Test-Label: iol-compile-amd64-testing
Test-Status: SUCCESS
http://dpdk.org/patch/143605
_Testing PASS_
Submitter: Mingjin Ye <mingjinx.ye at intel.com>
Date: Thursday, September 05 2024 01:31:44
DPDK git baseline: Repo:dpdk
Branch: master
CommitID:5cce3d463a99dbb5e7797faaed6c68df6c2b549a
143603-143605 --> testing pass
Upstream job id: Windows-Compile-DPDK-Native#21916
Test environment and result as below:
+---------------------+----------------------+--------------------+-----------------------+-------------------+
| Environment | dpdk_mingw64_compile | dpdk_meson_compile | dpdk_win_llvm_compile | dpdk_msvc_compile |
+=====================+======================+====================+=======================+===================+
| Windows Server 2022 | PASS | SKIPPED | PASS | PASS |
+---------------------+----------------------+--------------------+-----------------------+-------------------+
| FreeBSD 13.3 | SKIPPED | PASS | SKIPPED | SKIPPED |
+---------------------+----------------------+--------------------+-----------------------+-------------------+
| FreeBSD 14.1 | SKIPPED | PASS | SKIPPED | SKIPPED |
+---------------------+----------------------+--------------------+-----------------------+-------------------+
Windows Server 2022
Kernel: 10.0.20348.2031
Compiler: clang 15.0.7, gcc 14.1.0 (MinGW), and MSVC VS 19.39.33521
FreeBSD 13.3
Kernel: 13.3-RELEASE-p5
Compiler: clang 17.0.6
FreeBSD 14.1
Kernel: 14.1-RELEASE-p3
Compiler: clang 18.1.5
To view detailed results, visit:
https://lab.dpdk.org/results/dashboard/patchsets/30909/
UNH-IOL DPDK Community Lab
To manage your email subscriptions, visit:
https://lab.dpdk.org/results/dashboard/preferences/subscriptions/
More information about the test-report
mailing list