|WARNING| [GIT MASTER] ff4d4839f9c2a6d05dca0a25ed6b1549402e1682

dpdklab at iol.unh.edu dpdklab at iol.unh.edu
Thu Sep 5 19:20:24 CEST 2024


_Testing issues_

Branch: tags/v22.11

ff4d4839f9c2a6d05dca0a25ed6b1549402e1682 --> testing issues

Upstream job id: Generic-Unit-Test-DPDK#258284

Test environment and result as below:

+---------------------+----------------+
|     Environment     | dpdk_unit_test |
+=====================+================+
| CentOS Stream 9     | PASS           |
+---------------------+----------------+
| Debian Bullseye     | PASS           |
+---------------------+----------------+
| Fedora 37           | PASS           |
+---------------------+----------------+
| Debian 12           | PASS           |
+---------------------+----------------+
| Fedora 38           | PASS           |
+---------------------+----------------+
| Fedora 38 (Clang)   | PASS           |
+---------------------+----------------+
| Fedora 39 (Clang)   | PASS           |
+---------------------+----------------+
| Fedora 39           | PASS           |
+---------------------+----------------+
| RHEL 7              | WARN           |
+---------------------+----------------+
| Fedora 40 (Clang)   | PASS           |
+---------------------+----------------+
| RHEL8               | PASS           |
+---------------------+----------------+
| Ubuntu 24.04        | PASS           |
+---------------------+----------------+
| RHEL9               | PASS           |
+---------------------+----------------+
| Ubuntu 20.04        | PASS           |
+---------------------+----------------+
| Ubuntu 22.04        | PASS           |
+---------------------+----------------+
| Fedora 40           | PASS           |
+---------------------+----------------+
| Windows Server 2022 | PASS           |
+---------------------+----------------+

==== 20 line log output for RHEL 7 (dpdk_unit_test): ====
../drivers/crypto/openssl/rte_openssl_pmd.c:897:2: error: 'for' loop initial declarations are only allowed in C99 mode
for (uint16_t i = 0; i < sess->ctx_copies_len; i++) {
^
../drivers/crypto/openssl/rte_openssl_pmd.c:897:2: note: use option -std=c99 or -std=gnu99 to compile your code
../drivers/crypto/openssl/rte_openssl_pmd.c: In function 'get_local_auth_ctx':
../drivers/crypto/openssl/rte_openssl_pmd.c:1667:3: error: implicit declaration of function 'EVP_MD_CTX_new' [-Werror=implicit-function-declaration]
*lctx = EVP_MD_CTX_new();
^
../drivers/crypto/openssl/rte_openssl_pmd.c:1667:3: error: nested extern declaration of 'EVP_MD_CTX_new' [-Werror=nested-externs]
../drivers/crypto/openssl/rte_openssl_pmd.c:1667:9: error: assignment makes pointer from integer without a cast [-Werror]
*lctx = EVP_MD_CTX_new();
^
../drivers/crypto/openssl/rte_openssl_pmd.c: At top level:
../drivers/crypto/openssl/rte_openssl_pmd.c:34:13: error: 'HMAC_CTX_free' defined but not used [-Werror=unused-function]
static void HMAC_CTX_free(HMAC_CTX *ctx)
^
cc1: all warnings being treated as errors
[2474/3479] Compiling C object 'drivers/a715181@@tmp_rte_crypto_scheduler at sta/crypto_scheduler_rte_cryptodev_scheduler.c.o'.
[2475/3479] Compiling C object 'drivers/a715181@@tmp_rte_crypto_octeontx at sta/crypto_octeontx_otx_cryptodev_ops.c.o'.
ninja: build stopped: subcommand failed.
==== End log output ====

CentOS Stream 9
	Kernel: Depends on container host
	Compiler: gcc 11.4.1 20231218 (Red Hat 11.4.1-3)

Debian Bullseye
	Kernel: Depends on container host
	Compiler: gcc (Debian 10.2.1-6) 10.2.1 20210110

Fedora 37
	Kernel: Depends on container host system
	Compiler: gcc 12.3.1 20230508 (Red Hat 12.3.1-1)

Debian 12
	Kernel: Depends on container host
	Compiler: gcc (Debian 12.2.0-14) 12.2.0

Fedora 38
	Kernel: Depends on container host
	Compiler: gcc 13.2.1 20240316 (Red Hat 13.2.1-7)

Fedora 38 (Clang)
	Kernel: Depends on container host
	Compiler: clang 16.0.6 (Fedora 16.0.6-4.fc38)

Fedora 39 (Clang)
	Kernel: Depends on container host
	Compiler: clang 17.0.6 (Fedora 17.0.6-2.fc39)

Fedora 39
	Kernel: Depends on container host
	Compiler: gcc 13.3.1 20240522 (Red Hat 13.3.1-1)

RHEL 7
	Kernel: Depends on container host
	Compiler: gcc 4.8.5 20150623 (Red Hat 4.8.5-44)

Fedora 40 (Clang)
	Kernel: Depends on container host
	Compiler: clang 18.1.6 (Fedora 18.1.6-3.fc40)

RHEL8
	Kernel: Depends on container host
	Compiler: gcc 8.5.0 20210514 (Red Hat 8.5.0-22)

Ubuntu 24.04
	Kernel: Depends on container host
	Compiler: gcc (Ubuntu 13.2.0-23ubuntu4) 13.2.0

RHEL9
	Kernel: Depends on container host
	Compiler: gcc 11.4.1 20231218 (Red Hat 11.4.1-3)

Ubuntu 20.04
	Kernel: Depends on container host
	Compiler: gcc (Ubuntu 9.4.0-1ubuntu1~20.04.2) 9.4.0

Ubuntu 22.04
	Kernel: Depends on container host
	Compiler: gcc (Ubuntu 11.4.0-1ubuntu1~22.04) 11.4.0

Fedora 40
	Kernel: Depends on container host
	Compiler: gcc 14.2.1 20240801 (Red Hat 14.2.1-1)

Windows Server 2022
	Kernel: 10.0.20348.2031
	Compiler: clang 15.0.7, gcc 14.1.0 (MinGW), and MSVC VS 19.39.33521

To view detailed results, visit:
https://lab.dpdk.org/results/dashboard/tarballs/30456/

UNH-IOL DPDK Community Lab

To manage your email subscriptions, visit: 
https://lab.dpdk.org/results/dashboard/preferences/subscriptions/


More information about the test-report mailing list