|SUCCESS| pw143600-143602 [PATCH] [3/3] eal: mark rte_memzone_max_ge
dpdklab at iol.unh.edu
dpdklab at iol.unh.edu
Thu Sep 5 19:41:08 CEST 2024
Test-Label: iol-compile-amd64-testing
Test-Status: SUCCESS
http://dpdk.org/patch/143602
_Testing PASS_
Submitter: Stephen Hemminger <stephen at networkplumber.org>
Date: Wednesday, September 04 2024 18:08:46
DPDK git baseline: Repo:dpdk
Branch: master
CommitID:41dd9a6bc2d9c6e20e139ad713cc9d172572dd43
143600-143602 --> testing pass
Upstream job id: Generic-DPDK-Compile-Meson#295854
Test environment and result as below:
+---------------------+--------------------+-------------------+------------------+-------------------+
| Environment | dpdk_meson_compile | dpdk_msvc_compile | dpdk_compile_ovs | dpdk_compile_spdk |
+=====================+====================+===================+==================+===================+
| FreeBSD 14.1 | PASS | SKIPPED | SKIPPED | SKIPPED |
+---------------------+--------------------+-------------------+------------------+-------------------+
| FreeBSD 13.3 | PASS | SKIPPED | SKIPPED | SKIPPED |
+---------------------+--------------------+-------------------+------------------+-------------------+
| Debian Bullseye | PASS | SKIPPED | PASS | PASS |
+---------------------+--------------------+-------------------+------------------+-------------------+
| CentOS Stream 9 | PASS | SKIPPED | PASS | PASS |
+---------------------+--------------------+-------------------+------------------+-------------------+
| Debian 12 | PASS | SKIPPED | PASS | PASS |
+---------------------+--------------------+-------------------+------------------+-------------------+
| Fedora 37 | PASS | SKIPPED | PASS | PASS |
+---------------------+--------------------+-------------------+------------------+-------------------+
| Fedora 38 (Clang) | PASS | SKIPPED | PASS | PASS |
+---------------------+--------------------+-------------------+------------------+-------------------+
| Fedora 38 | PASS | SKIPPED | PASS | PASS |
+---------------------+--------------------+-------------------+------------------+-------------------+
| Fedora 39 (Clang) | PASS | SKIPPED | PASS | PASS |
+---------------------+--------------------+-------------------+------------------+-------------------+
| Fedora 40 (Clang) | PASS | SKIPPED | PASS | PASS |
+---------------------+--------------------+-------------------+------------------+-------------------+
| Fedora 39 | PASS | SKIPPED | PASS | PASS |
+---------------------+--------------------+-------------------+------------------+-------------------+
| Fedora 40 | PASS | SKIPPED | PASS | PASS |
+---------------------+--------------------+-------------------+------------------+-------------------+
| openSUSE Leap 15 | PASS | SKIPPED | PASS | SKIPPED |
+---------------------+--------------------+-------------------+------------------+-------------------+
| RHEL8 | PASS | SKIPPED | PASS | SKIPPED |
+---------------------+--------------------+-------------------+------------------+-------------------+
| RHEL9 | PASS | SKIPPED | PASS | SKIPPED |
+---------------------+--------------------+-------------------+------------------+-------------------+
| Ubuntu 20.04 | PASS | SKIPPED | PASS | SKIPPED |
+---------------------+--------------------+-------------------+------------------+-------------------+
| Ubuntu 22.04 | PASS | SKIPPED | PASS | PASS |
+---------------------+--------------------+-------------------+------------------+-------------------+
| Ubuntu 24.04 | PASS | SKIPPED | PASS | PASS |
+---------------------+--------------------+-------------------+------------------+-------------------+
| Alpine | PASS | SKIPPED | PASS | SKIPPED |
+---------------------+--------------------+-------------------+------------------+-------------------+
| Windows Server 2022 | SKIPPED | PASS | SKIPPED | SKIPPED |
+---------------------+--------------------+-------------------+------------------+-------------------+
FreeBSD 14.1
Kernel: 14.1-RELEASE-p3
Compiler: clang 18.1.5
FreeBSD 13.3
Kernel: 13.3-RELEASE-p5
Compiler: clang 17.0.6
Debian Bullseye
Kernel: Depends on container host
Compiler: gcc (Debian 10.2.1-6) 10.2.1 20210110
CentOS Stream 9
Kernel: Depends on container host
Compiler: gcc 11.4.1 20231218 (Red Hat 11.4.1-3)
Debian 12
Kernel: Depends on container host
Compiler: gcc (Debian 12.2.0-14) 12.2.0
Fedora 37
Kernel: Depends on container host system
Compiler: gcc 12.3.1 20230508 (Red Hat 12.3.1-1)
Fedora 38 (Clang)
Kernel: Depends on container host
Compiler: clang 16.0.6 (Fedora 16.0.6-4.fc38)
Fedora 38
Kernel: Depends on container host
Compiler: gcc 13.2.1 20240316 (Red Hat 13.2.1-7)
Fedora 39 (Clang)
Kernel: Depends on container host
Compiler: clang 17.0.6 (Fedora 17.0.6-2.fc39)
Fedora 40 (Clang)
Kernel: Depends on container host
Compiler: clang 18.1.6 (Fedora 18.1.6-3.fc40)
Fedora 39
Kernel: Depends on container host
Compiler: gcc 13.3.1 20240522 (Red Hat 13.3.1-1)
Fedora 40
Kernel: Depends on container host
Compiler: gcc 14.2.1 20240801 (Red Hat 14.2.1-1)
openSUSE Leap 15
Kernel: Depends on container host
Compiler: gcc (SUSE Linux) 7.5.0
RHEL8
Kernel: Depends on container host
Compiler: gcc 8.5.0 20210514 (Red Hat 8.5.0-22)
RHEL9
Kernel: Depends on container host
Compiler: gcc 11.4.1 20231218 (Red Hat 11.4.1-3)
Ubuntu 20.04
Kernel: Depends on container host
Compiler: gcc (Ubuntu 9.4.0-1ubuntu1~20.04.2) 9.4.0
Ubuntu 22.04
Kernel: Depends on container host
Compiler: gcc (Ubuntu 11.4.0-1ubuntu1~22.04) 11.4.0
Ubuntu 24.04
Kernel: Depends on container host
Compiler: gcc (Ubuntu 13.2.0-23ubuntu4) 13.2.0
Alpine
Kernel: Depends on container host
Compiler: gcc (Alpine 13.2.1_git20240309) 13.2.1 20240309
Windows Server 2022
Kernel: 10.0.20348.2031
Compiler: clang 15.0.7, gcc 14.1.0 (MinGW), and MSVC VS 19.39.33521
To view detailed results, visit:
https://lab.dpdk.org/results/dashboard/patchsets/30908/
UNH-IOL DPDK Community Lab
To manage your email subscriptions, visit:
https://lab.dpdk.org/results/dashboard/preferences/subscriptions/
More information about the test-report
mailing list