|WARNING| pw143668-143673 [PATCH] [6/6] app/test: add asymmetric tes

dpdklab at iol.unh.edu dpdklab at iol.unh.edu
Fri Sep 6 02:00:10 CEST 2024


Test-Label: iol-unit-amd64-testing
Test-Status: WARNING
http://dpdk.org/patch/143673

_Testing issues_

Submitter: Gowrishankar Muthukrishnan <gmuthukrishn at marvell.com>
Date: Thursday, September 05 2024 14:56:10 
DPDK git baseline: Repo:dpdk
  Branch: master
  CommitID:41dd9a6bc2d9c6e20e139ad713cc9d172572dd43

143668-143673 --> testing issues

Upstream job id: Generic-Unit-Test-DPDK#258609

Test environment and result as below:

+---------------------+----------------+
|     Environment     | dpdk_unit_test |
+=====================+================+
| CentOS Stream 9     | PASS           |
+---------------------+----------------+
| Debian Bullseye     | PASS           |
+---------------------+----------------+
| Debian 12           | PASS           |
+---------------------+----------------+
| Fedora 37           | PASS           |
+---------------------+----------------+
| Fedora 39           | PASS           |
+---------------------+----------------+
| Fedora 38           | PASS           |
+---------------------+----------------+
| Fedora 40           | PASS           |
+---------------------+----------------+
| RHEL8               | PASS           |
+---------------------+----------------+
| Fedora 40 (Clang)   | WARN           |
+---------------------+----------------+
| RHEL9               | PASS           |
+---------------------+----------------+
| Ubuntu 22.04        | PASS           |
+---------------------+----------------+
| Ubuntu 20.04        | PASS           |
+---------------------+----------------+
| Ubuntu 24.04        | PASS           |
+---------------------+----------------+
| Fedora 38 (Clang)   | WARN           |
+---------------------+----------------+
| Fedora 39 (Clang)   | WARN           |
+---------------------+----------------+
| Windows Server 2022 | PASS           |
+---------------------+----------------+

==== 20 line log output for Fedora 39 (Clang) (dpdk_unit_test): ====
../lib/vhost/vhost_crypto.c:1454:24: error: calling function 'get_data_ptr' requires holding mutex 'vc_req->vq->iotlb_lock' [-Werror,-Wthread-safety-analysis]
1454 |                         rsa->message.data = get_data_ptr(vc_req, desc, VHOST_ACCESS_RO);
|                                             ^
../lib/vhost/vhost_crypto.c:1465:23: error: calling function 'get_data_ptr' requires holding mutex 'vc_req->vq->iotlb_lock' [-Werror,-Wthread-safety-analysis]
1465 |                         rsa->cipher.data = get_data_ptr(vc_req, desc, VHOST_ACCESS_RW);
|                                            ^
../lib/vhost/vhost_crypto.c:1474:23: error: calling function 'get_data_ptr' requires holding mutex 'vc_req->vq->iotlb_lock' [-Werror,-Wthread-safety-analysis]
1474 |                         rsa->cipher.data = get_data_ptr(vc_req, desc, VHOST_ACCESS_RO);
|                                            ^
../lib/vhost/vhost_crypto.c:1477:24: error: calling function 'get_data_ptr' requires holding mutex 'vc_req->vq->iotlb_lock' [-Werror,-Wthread-safety-analysis]
1477 |                         rsa->message.data = get_data_ptr(vc_req, desc, VHOST_ACCESS_RO);
|                                             ^
../lib/vhost/vhost_crypto.c:1493:18: error: calling function 'get_data_ptr' requires holding mutex 'vc_req->vq->iotlb_lock' [-Werror,-Wthread-safety-analysis]
1493 |         vc_req->inhdr = get_data_ptr(vc_req, desc, VHOST_ACCESS_WO);
|                         ^
9 errors generated.
[411/2945] Compiling C object 'lib/76b5a35@@rte_vhost at sta/vhost_vhost.c.o'.
[412/2945] Compiling C object 'lib/76b5a35@@rte_vhost at sta/vhost_vhost_user.c.o'.
[413/2945] Generating mldev.sym_chk with a meson_exe.py custom command.
ninja: build stopped: subcommand failed.
==== End log output ====

CentOS Stream 9
	Kernel: Depends on container host
	Compiler: gcc 11.4.1 20231218 (Red Hat 11.4.1-3)

Debian Bullseye
	Kernel: Depends on container host
	Compiler: gcc (Debian 10.2.1-6) 10.2.1 20210110

Debian 12
	Kernel: Depends on container host
	Compiler: gcc (Debian 12.2.0-14) 12.2.0

Fedora 37
	Kernel: Depends on container host system
	Compiler: gcc 12.3.1 20230508 (Red Hat 12.3.1-1)

Fedora 39
	Kernel: Depends on container host
	Compiler: gcc 13.3.1 20240522 (Red Hat 13.3.1-1)

Fedora 38
	Kernel: Depends on container host
	Compiler: gcc 13.2.1 20240316 (Red Hat 13.2.1-7)

Fedora 40
	Kernel: Depends on container host
	Compiler: gcc 14.2.1 20240801 (Red Hat 14.2.1-1)

RHEL8
	Kernel: Depends on container host
	Compiler: gcc 8.5.0 20210514 (Red Hat 8.5.0-22)

Fedora 40 (Clang)
	Kernel: Depends on container host
	Compiler: clang 18.1.6 (Fedora 18.1.6-3.fc40)

RHEL9
	Kernel: Depends on container host
	Compiler: gcc 11.4.1 20231218 (Red Hat 11.4.1-3)

Ubuntu 22.04
	Kernel: Depends on container host
	Compiler: gcc (Ubuntu 11.4.0-1ubuntu1~22.04) 11.4.0

Ubuntu 20.04
	Kernel: Depends on container host
	Compiler: gcc (Ubuntu 9.4.0-1ubuntu1~20.04.2) 9.4.0

Ubuntu 24.04
	Kernel: Depends on container host
	Compiler: gcc (Ubuntu 13.2.0-23ubuntu4) 13.2.0

Fedora 38 (Clang)
	Kernel: Depends on container host
	Compiler: clang 16.0.6 (Fedora 16.0.6-4.fc38)

Fedora 39 (Clang)
	Kernel: Depends on container host
	Compiler: clang 17.0.6 (Fedora 17.0.6-2.fc39)

Windows Server 2022
	Kernel: 10.0.20348.2031
	Compiler: clang 15.0.7, gcc 14.1.0 (MinGW), and MSVC VS 19.39.33521

To view detailed results, visit:
https://lab.dpdk.org/results/dashboard/patchsets/30925/

UNH-IOL DPDK Community Lab

To manage your email subscriptions, visit: 
https://lab.dpdk.org/results/dashboard/preferences/subscriptions/


More information about the test-report mailing list