|SUCCESS| pw143716-143718 [PATCH] [v1,3/3] crypto/ipsec_mb: add SM4
dpdklab at iol.unh.edu
dpdklab at iol.unh.edu
Fri Sep 6 17:34:26 CEST 2024
Test-Label: iol-compile-amd64-testing
Test-Status: SUCCESS
http://dpdk.org/patch/143718
_Testing PASS_
Submitter: Brian Dooley <brian.dooley at intel.com>
Date: Friday, September 06 2024 12:39:39
DPDK git baseline: Repo:dpdk
Branch: master
CommitID:b3485f4293997d35b6daecc3437bb0c183a51fb3
143716-143718 --> testing pass
Upstream job id: Windows-Compile-DPDK-Native#21993
Test environment and result as below:
+---------------------+----------------------+--------------------+-----------------------+
| Environment | dpdk_mingw64_compile | dpdk_meson_compile | dpdk_win_llvm_compile |
+=====================+======================+====================+=======================+
| Windows Server 2022 | PASS | SKIPPED | PASS |
+---------------------+----------------------+--------------------+-----------------------+
| FreeBSD 13.3 | SKIPPED | PASS | SKIPPED |
+---------------------+----------------------+--------------------+-----------------------+
| FreeBSD 14.1 | SKIPPED | PASS | SKIPPED |
+---------------------+----------------------+--------------------+-----------------------+
Windows Server 2022
Kernel: 10.0.20348.2031
Compiler: clang 15.0.7, gcc 14.1.0 (MinGW), and MSVC VS 19.39.33521
FreeBSD 13.3
Kernel: 13.3-RELEASE-p5
Compiler: clang 17.0.6
FreeBSD 14.1
Kernel: 14.1-RELEASE-p3
Compiler: clang 18.1.5
To view detailed results, visit:
https://lab.dpdk.org/results/dashboard/patchsets/30937/
UNH-IOL DPDK Community Lab
To manage your email subscriptions, visit:
https://lab.dpdk.org/results/dashboard/preferences/subscriptions/
More information about the test-report
mailing list