|SUCCESS| pw143760 [PATCH] fib: implement RCU rule reclamation

dpdklab at iol.unh.edu dpdklab at iol.unh.edu
Fri Sep 6 23:54:25 CEST 2024


Test-Label: iol-compile-amd64-testing
Test-Status: SUCCESS
http://dpdk.org/patch/143760

_Testing PASS_

Submitter: Vladimir Medvedkin <vladimir.medvedkin at intel.com>
Date: Friday, September 06 2024 17:09:07 
DPDK git baseline: Repo:dpdk
  Branch: master
  CommitID:41dd9a6bc2d9c6e20e139ad713cc9d172572dd43

143760 --> testing pass

Upstream job id: Generic-VM-DPDK-Compile-Meson#29242

Test environment and result as below:

+---------------------+----------------------+-----------------------+--------------------+
|     Environment     | dpdk_mingw64_compile | dpdk_win_llvm_compile | dpdk_meson_compile |
+=====================+======================+=======================+====================+
| Windows Server 2022 | PASS                 | PASS                  | SKIPPED            |
+---------------------+----------------------+-----------------------+--------------------+
| FreeBSD 13.3        | SKIPPED              | SKIPPED               | PASS               |
+---------------------+----------------------+-----------------------+--------------------+
| FreeBSD 14.1        | SKIPPED              | SKIPPED               | PASS               |
+---------------------+----------------------+-----------------------+--------------------+


Windows Server 2022
	Kernel: 10.0.20348.2031
	Compiler: clang 15.0.7, gcc 14.1.0 (MinGW), and MSVC VS 19.39.33521

FreeBSD 13.3
	Kernel: 13.3-RELEASE-p5
	Compiler: clang 17.0.6

FreeBSD 14.1
	Kernel: 14.1-RELEASE-p3
	Compiler: clang 18.1.5

To view detailed results, visit:
https://lab.dpdk.org/results/dashboard/patchsets/30951/

UNH-IOL DPDK Community Lab

To manage your email subscriptions, visit: 
https://lab.dpdk.org/results/dashboard/preferences/subscriptions/


More information about the test-report mailing list