|SUCCESS| pw143716-143718 [PATCH] [v1,3/3] crypto/ipsec_mb: add SM4
dpdklab at iol.unh.edu
dpdklab at iol.unh.edu
Sun Sep 8 04:12:52 CEST 2024
Test-Label: iol-sample-apps-testing
Test-Status: SUCCESS
http://dpdk.org/patch/143718
_Testing PASS_
Submitter: Brian Dooley <brian.dooley at intel.com>
Date: Friday, September 06 2024 12:39:39
DPDK git baseline: Repo:dpdk
Branch: master
CommitID:b3485f4293997d35b6daecc3437bb0c183a51fb3
143716-143718 --> testing pass
Upstream job id: ACVP-FIPS-testing#6849
Test environment and result as below:
+--------------------+----------------------+----------------------+
| Environment | compressdev_zlib_pmd | dpdk_fips_validation |
+====================+======================+======================+
| Ubuntu 22.04 (ARM) | PASS | SKIPPED |
+--------------------+----------------------+----------------------+
| Ubuntu 22.04 | PASS | SKIPPED |
+--------------------+----------------------+----------------------+
| Ubuntu 20.04 | SKIPPED | PASS |
+--------------------+----------------------+----------------------+
Ubuntu 22.04 (ARM)
Kernel: 5.15.0-97-generic
Compiler: gcc gcc (Ubuntu 11.4.0-1ubuntu1~22.04) 11.4.0
Ubuntu 22.04
Kernel: 5.15.0-100-generic
Compiler: gcc gcc (Ubuntu 11.4.0-1ubuntu1~22.04) 11.4.0
Ubuntu 20.04
Kernel: Depends on container host
Compiler: gcc (Ubuntu 9.4.0-1ubuntu1~20.04.2) 9.4.0
To view detailed results, visit:
https://lab.dpdk.org/results/dashboard/patchsets/30937/
UNH-IOL DPDK Community Lab
To manage your email subscriptions, visit:
https://lab.dpdk.org/results/dashboard/preferences/subscriptions/
More information about the test-report
mailing list