|SUCCESS| pw143809 [PATCH] [v2,1/1] net/ixgbe: update base code READ
dpdklab at iol.unh.edu
dpdklab at iol.unh.edu
Mon Sep 9 19:25:01 CEST 2024
Test-Label: iol-compile-amd64-testing
Test-Status: SUCCESS
http://dpdk.org/patch/143809
_Testing PASS_
Submitter: Anatoly Burakov <anatoly.burakov at intel.com>
Date: Monday, September 09 2024 08:47:32
DPDK git baseline: Repo:dpdk
Branch: master
CommitID:126a3817617a9cbf75bfe646249511f6c2fb326e
143809 --> testing pass
Upstream job id: Windows-Compile-DPDK-VS#3032
Test environment and result as below:
+---------------------+--------------------+----------------------+-----------------------+-------------------+
| Environment | dpdk_meson_compile | dpdk_mingw64_compile | dpdk_win_llvm_compile | dpdk_msvc_compile |
+=====================+====================+======================+=======================+===================+
| FreeBSD 13.3 | PASS | SKIPPED | SKIPPED | SKIPPED |
+---------------------+--------------------+----------------------+-----------------------+-------------------+
| FreeBSD 14.1 | PASS | SKIPPED | SKIPPED | SKIPPED |
+---------------------+--------------------+----------------------+-----------------------+-------------------+
| Windows Server 2022 | SKIPPED | PASS | PASS | PASS |
+---------------------+--------------------+----------------------+-----------------------+-------------------+
FreeBSD 13.3
Kernel: 13.3-RELEASE-p5
Compiler: clang 17.0.6
FreeBSD 14.1
Kernel: 14.1-RELEASE-p3
Compiler: clang 18.1.5
Windows Server 2022
Kernel: 10.0.20348.2031
Compiler: clang 15.0.7, gcc 14.1.0 (MinGW), and MSVC VS 19.39.33521
To view detailed results, visit:
https://lab.dpdk.org/results/dashboard/patchsets/30968/
UNH-IOL DPDK Community Lab
To manage your email subscriptions, visit:
https://lab.dpdk.org/results/dashboard/preferences/subscriptions/
More information about the test-report
mailing list