|SUCCESS| pw143796 [PATCH] [v2] ipsec: allow stateless IPsec process
dpdklab at iol.unh.edu
dpdklab at iol.unh.edu
Mon Sep 9 22:36:20 CEST 2024
Test-Label: iol-compile-amd64-testing
Test-Status: SUCCESS
http://dpdk.org/patch/143796
_Testing PASS_
Submitter: Aakash Sasidharan <asasidharan at marvell.com>
Date: Sunday, September 08 2024 11:57:33
DPDK git baseline: Repo:dpdk
Branch: master
CommitID:b3485f4293997d35b6daecc3437bb0c183a51fb3
143796 --> testing pass
Upstream job id: Windows-Compile-DPDK-VS#3035
Test environment and result as below:
+---------------------+-----------------------+----------------------+--------------------+-------------------+
| Environment | dpdk_win_llvm_compile | dpdk_mingw64_compile | dpdk_meson_compile | dpdk_msvc_compile |
+=====================+=======================+======================+====================+===================+
| Windows Server 2022 | PASS | PASS | SKIPPED | PASS |
+---------------------+-----------------------+----------------------+--------------------+-------------------+
| FreeBSD 14.1 | SKIPPED | SKIPPED | PASS | SKIPPED |
+---------------------+-----------------------+----------------------+--------------------+-------------------+
| FreeBSD 13.3 | SKIPPED | SKIPPED | PASS | SKIPPED |
+---------------------+-----------------------+----------------------+--------------------+-------------------+
Windows Server 2022
Kernel: 10.0.20348.2031
Compiler: clang 15.0.7, gcc 14.1.0 (MinGW), and MSVC VS 19.39.33521
FreeBSD 14.1
Kernel: 14.1-RELEASE-p3
Compiler: clang 18.1.5
FreeBSD 13.3
Kernel: 13.3-RELEASE-p5
Compiler: clang 17.0.6
To view detailed results, visit:
https://lab.dpdk.org/results/dashboard/patchsets/30962/
UNH-IOL DPDK Community Lab
To manage your email subscriptions, visit:
https://lab.dpdk.org/results/dashboard/preferences/subscriptions/
More information about the test-report
mailing list