|SUCCESS| pw143786-143794 [PATCH] [9/9] raw/cnxk_rvu_lf: add selftes

dpdklab at iol.unh.edu dpdklab at iol.unh.edu
Tue Sep 10 00:10:14 CEST 2024


Test-Label: iol-compile-amd64-testing
Test-Status: SUCCESS
http://dpdk.org/patch/143794

_Testing PASS_

Submitter: Akhil Goyal <gakhil at marvell.com>
Date: Saturday, September 07 2024 19:33:11 
DPDK git baseline: Repo:dpdk
  Branch: master
  CommitID:41dd9a6bc2d9c6e20e139ad713cc9d172572dd43

143786-143794 --> testing pass

Upstream job id: Windows-Compile-DPDK-VS#3036

Test environment and result as below:

+---------------------+----------------------+-----------------------+-------------------+--------------------+
|     Environment     | dpdk_mingw64_compile | dpdk_win_llvm_compile | dpdk_msvc_compile | dpdk_meson_compile |
+=====================+======================+=======================+===================+====================+
| Windows Server 2022 | PASS                 | PASS                  | PASS              | SKIPPED            |
+---------------------+----------------------+-----------------------+-------------------+--------------------+
| FreeBSD 14.1        | SKIPPED              | SKIPPED               | SKIPPED           | PASS               |
+---------------------+----------------------+-----------------------+-------------------+--------------------+
| FreeBSD 13.3        | SKIPPED              | SKIPPED               | SKIPPED           | PASS               |
+---------------------+----------------------+-----------------------+-------------------+--------------------+


Windows Server 2022
	Kernel: 10.0.20348.2031
	Compiler: clang 15.0.7, gcc 14.1.0 (MinGW), and MSVC VS 19.39.33521

FreeBSD 14.1
	Kernel: 14.1-RELEASE-p3
	Compiler: clang 18.1.5

FreeBSD 13.3
	Kernel: 13.3-RELEASE-p5
	Compiler: clang 17.0.6

To view detailed results, visit:
https://lab.dpdk.org/results/dashboard/patchsets/30960/

UNH-IOL DPDK Community Lab

To manage your email subscriptions, visit: 
https://lab.dpdk.org/results/dashboard/preferences/subscriptions/


More information about the test-report mailing list