|SUCCESS| pw143831 [PATCH] Coverity issue: Failure to enqueue packet

dpdklab at iol.unh.edu dpdklab at iol.unh.edu
Tue Sep 10 01:55:57 CEST 2024


Test-Label: iol-compile-amd64-testing
Test-Status: SUCCESS
http://dpdk.org/patch/143831

_Testing PASS_

Submitter: Yong Liang <1269690261 at qq.com>
Date: Monday, September 09 2024 16:57:41 
DPDK git baseline: Repo:dpdk
  Branch: master
  CommitID:b3485f4293997d35b6daecc3437bb0c183a51fb3

143831 --> testing pass

Upstream job id: Generic-VM-DPDK-Compile-Meson#29294

Test environment and result as below:

+---------------------+----------------------+-----------------------+--------------------+-------------------+
|     Environment     | dpdk_mingw64_compile | dpdk_win_llvm_compile | dpdk_meson_compile | dpdk_msvc_compile |
+=====================+======================+=======================+====================+===================+
| Windows Server 2022 | PASS                 | PASS                  | SKIPPED            | PASS              |
+---------------------+----------------------+-----------------------+--------------------+-------------------+
| FreeBSD 13.3        | SKIPPED              | SKIPPED               | PASS               | SKIPPED           |
+---------------------+----------------------+-----------------------+--------------------+-------------------+
| FreeBSD 14.1        | SKIPPED              | SKIPPED               | PASS               | SKIPPED           |
+---------------------+----------------------+-----------------------+--------------------+-------------------+


Windows Server 2022
	Kernel: 10.0.20348.2031
	Compiler: clang 15.0.7, gcc 14.1.0 (MinGW), and MSVC VS 19.39.33521

FreeBSD 13.3
	Kernel: 13.3-RELEASE-p5
	Compiler: clang 17.0.6

FreeBSD 14.1
	Kernel: 14.1-RELEASE-p3
	Compiler: clang 18.1.5

To view detailed results, visit:
https://lab.dpdk.org/results/dashboard/patchsets/30977/

UNH-IOL DPDK Community Lab

To manage your email subscriptions, visit: 
https://lab.dpdk.org/results/dashboard/preferences/subscriptions/


More information about the test-report mailing list