|SUCCESS| pw143823-143821 [PATCH] [v4,6/6] eal: extend bitops to han

dpdklab at iol.unh.edu dpdklab at iol.unh.edu
Tue Sep 10 06:29:57 CEST 2024


Test-Label: iol-sample-apps-testing
Test-Status: SUCCESS
http://dpdk.org/patch/143821

_Testing PASS_

Submitter: Mattias Ronnblom <mattias.ronnblom at ericsson.com>
Date: Monday, September 09 2024 14:57:43 
DPDK git baseline: Repo:dpdk
  Branch: master
  CommitID:41dd9a6bc2d9c6e20e139ad713cc9d172572dd43

143823-143821 --> testing pass

Upstream job id: ACVP-FIPS-testing#6877

Test environment and result as below:

+--------------------+----------------------+----------------------+
|    Environment     | compressdev_zlib_pmd | dpdk_fips_validation |
+====================+======================+======================+
| Ubuntu 22.04 (ARM) | PASS                 | SKIPPED              |
+--------------------+----------------------+----------------------+
| Ubuntu 22.04       | PASS                 | SKIPPED              |
+--------------------+----------------------+----------------------+
| Ubuntu 20.04       | SKIPPED              | PASS                 |
+--------------------+----------------------+----------------------+


Ubuntu 22.04 (ARM)
	Kernel: 5.15.0-97-generic
	Compiler: gcc gcc (Ubuntu 11.4.0-1ubuntu1~22.04) 11.4.0

Ubuntu 22.04
	Kernel: 5.15.0-100-generic
	Compiler: gcc gcc (Ubuntu 11.4.0-1ubuntu1~22.04) 11.4.0

Ubuntu 20.04
	Kernel: Depends on container host
	Compiler: gcc (Ubuntu 9.4.0-1ubuntu1~20.04.2) 9.4.0

To view detailed results, visit:
https://lab.dpdk.org/results/dashboard/patchsets/30973/

UNH-IOL DPDK Community Lab

To manage your email subscriptions, visit: 
https://lab.dpdk.org/results/dashboard/preferences/subscriptions/


More information about the test-report mailing list