|SUCCESS| pw143857-143855 [PATCH] [v6,6/6] eal: extend bitops to han

dpdklab at iol.unh.edu dpdklab at iol.unh.edu
Wed Sep 11 04:24:46 CEST 2024


Test-Label: iol-compile-amd64-testing
Test-Status: SUCCESS
http://dpdk.org/patch/143855

_Testing PASS_

Submitter: Mattias Ronnblom <mattias.ronnblom at ericsson.com>
Date: Tuesday, September 10 2024 08:31:39 
DPDK git baseline: Repo:dpdk
  Branch: master
  CommitID:41dd9a6bc2d9c6e20e139ad713cc9d172572dd43

143857-143855 --> testing pass

Upstream job id: Windows-Compile-DPDK-Native#22103

Test environment and result as below:

+---------------------+--------------------+----------------------+-----------------------+
|     Environment     | dpdk_meson_compile | dpdk_mingw64_compile | dpdk_win_llvm_compile |
+=====================+====================+======================+=======================+
| FreeBSD 13.3        | PASS               | SKIPPED              | SKIPPED               |
+---------------------+--------------------+----------------------+-----------------------+
| FreeBSD 14.1        | PASS               | SKIPPED              | SKIPPED               |
+---------------------+--------------------+----------------------+-----------------------+
| Windows Server 2022 | SKIPPED            | PASS                 | PASS                  |
+---------------------+--------------------+----------------------+-----------------------+


FreeBSD 13.3
	Kernel: 13.3-RELEASE-p5
	Compiler: clang 17.0.6

FreeBSD 14.1
	Kernel: 14.1-RELEASE-p3
	Compiler: clang 18.1.5

Windows Server 2022
	Kernel: 10.0.20348.2031
	Compiler: clang 15.0.7, gcc 14.1.0 (MinGW), and MSVC VS 19.39.33521

To view detailed results, visit:
https://lab.dpdk.org/results/dashboard/patchsets/30986/

UNH-IOL DPDK Community Lab

To manage your email subscriptions, visit: 
https://lab.dpdk.org/results/dashboard/preferences/subscriptions/


More information about the test-report mailing list