|SUCCESS| pw143746-143749 [PATCH] [v2,4/4] devtools/test-meson-build

dpdklab at iol.unh.edu dpdklab at iol.unh.edu
Wed Sep 11 07:29:18 CEST 2024


Test-Label: iol-compile-amd64-testing
Test-Status: SUCCESS
http://dpdk.org/patch/143749

_Testing PASS_

Submitter: Bruce Richardson <bruce.richardson at intel.com>
Date: Friday, September 06 2024 16:12:44 
DPDK git baseline: Repo:dpdk
  Branch: master
  CommitID:41dd9a6bc2d9c6e20e139ad713cc9d172572dd43

143746-143749 --> testing pass

Upstream job id: Windows-Compile-DPDK-Native#22113

Test environment and result as below:

+---------------------+----------------------+-----------------------+--------------------+
|     Environment     | dpdk_mingw64_compile | dpdk_win_llvm_compile | dpdk_meson_compile |
+=====================+======================+=======================+====================+
| Windows Server 2022 | PASS                 | PASS                  | SKIPPED            |
+---------------------+----------------------+-----------------------+--------------------+
| FreeBSD 13.3        | SKIPPED              | SKIPPED               | PASS               |
+---------------------+----------------------+-----------------------+--------------------+
| FreeBSD 14.1        | SKIPPED              | SKIPPED               | PASS               |
+---------------------+----------------------+-----------------------+--------------------+


Windows Server 2022
	Kernel: 10.0.20348.2031
	Compiler: clang 15.0.7, gcc 14.1.0 (MinGW), and MSVC VS 19.39.33521

FreeBSD 13.3
	Kernel: 13.3-RELEASE-p5
	Compiler: clang 17.0.6

FreeBSD 14.1
	Kernel: 14.1-RELEASE-p3
	Compiler: clang 18.1.5

To view detailed results, visit:
https://lab.dpdk.org/results/dashboard/patchsets/30944/

UNH-IOL DPDK Community Lab

To manage your email subscriptions, visit: 
https://lab.dpdk.org/results/dashboard/preferences/subscriptions/


More information about the test-report mailing list