|SUCCESS| pw143918-143933 [PATCH] [v2,19/19] net/xsc: add dev basic
dpdklab at iol.unh.edu
dpdklab at iol.unh.edu
Wed Sep 11 08:50:57 CEST 2024
Test-Label: iol-compile-amd64-testing
Test-Status: SUCCESS
http://dpdk.org/patch/143933
_Testing PASS_
Submitter: WanRenyong <wanry at yunsilicon.com>
Date: Wednesday, September 11 2024 02:07:40
DPDK git baseline: Repo:dpdk
Branch: master
CommitID:523fd7b3adfdf5a87651e8ca33bc69223b3211d5
143918-143933 --> testing pass
Upstream job id: Windows-Compile-DPDK-Native#22118
Test environment and result as below:
+---------------------+-----------------------+--------------------+----------------------+
| Environment | dpdk_win_llvm_compile | dpdk_meson_compile | dpdk_mingw64_compile |
+=====================+=======================+====================+======================+
| Windows Server 2022 | PASS | SKIPPED | PASS |
+---------------------+-----------------------+--------------------+----------------------+
| FreeBSD 13.3 | SKIPPED | PASS | SKIPPED |
+---------------------+-----------------------+--------------------+----------------------+
| FreeBSD 14.1 | SKIPPED | PASS | SKIPPED |
+---------------------+-----------------------+--------------------+----------------------+
Windows Server 2022
Kernel: 10.0.20348.2031
Compiler: clang 15.0.7, gcc 14.1.0 (MinGW), and MSVC VS 19.39.33521
FreeBSD 13.3
Kernel: 13.3-RELEASE-p5
Compiler: clang 17.0.6
FreeBSD 14.1
Kernel: 14.1-RELEASE-p3
Compiler: clang 18.1.5
To view detailed results, visit:
https://lab.dpdk.org/results/dashboard/patchsets/30995/
UNH-IOL DPDK Community Lab
To manage your email subscriptions, visit:
https://lab.dpdk.org/results/dashboard/preferences/subscriptions/
More information about the test-report
mailing list