|SUCCESS| pw143937 [PATCH] [v4,1/1] testpmd: add hairpin-map paramet

dpdklab at iol.unh.edu dpdklab at iol.unh.edu
Wed Sep 11 21:06:07 CEST 2024


Test-Label: iol-compile-amd64-testing
Test-Status: SUCCESS
http://dpdk.org/patch/143937

_Testing PASS_

Submitter: Gregory Etelson <getelson at nvidia.com>
Date: Wednesday, September 11 2024 05:08:33 
DPDK git baseline: Repo:dpdk
  Branch: master
  CommitID:523fd7b3adfdf5a87651e8ca33bc69223b3211d5

143937 --> testing pass

Upstream job id: Generic-DPDK-Compile-Meson#299448

Test environment and result as below:

+---------------------+-----------------------+--------------------+-------------------+----------------------+------------------+-------------------+
|     Environment     | dpdk_win_llvm_compile | dpdk_meson_compile | dpdk_msvc_compile | dpdk_mingw64_compile | dpdk_compile_ovs | dpdk_compile_spdk |
+=====================+=======================+====================+===================+======================+==================+===================+
| Windows Server 2022 | PASS                  | SKIPPED            | PASS              | PASS                 | SKIPPED          | SKIPPED           |
+---------------------+-----------------------+--------------------+-------------------+----------------------+------------------+-------------------+
| FreeBSD 13.3        | SKIPPED               | PASS               | SKIPPED           | SKIPPED              | SKIPPED          | SKIPPED           |
+---------------------+-----------------------+--------------------+-------------------+----------------------+------------------+-------------------+
| FreeBSD 14.1        | SKIPPED               | PASS               | SKIPPED           | SKIPPED              | SKIPPED          | SKIPPED           |
+---------------------+-----------------------+--------------------+-------------------+----------------------+------------------+-------------------+
| CentOS Stream 9     | SKIPPED               | PASS               | SKIPPED           | SKIPPED              | PASS             | PASS              |
+---------------------+-----------------------+--------------------+-------------------+----------------------+------------------+-------------------+


Windows Server 2022
	Kernel: 10.0.20348.2031
	Compiler: clang 15.0.7, gcc 14.1.0 (MinGW), and MSVC VS 19.39.33521

FreeBSD 13.3
	Kernel: 13.3-RELEASE-p5
	Compiler: clang 17.0.6

FreeBSD 14.1
	Kernel: 14.1-RELEASE-p3
	Compiler: clang 18.1.5

CentOS Stream 9
	Kernel: Depends on container host
	Compiler: gcc 11.4.1 20231218 (Red Hat 11.4.1-3)

To view detailed results, visit:
https://lab.dpdk.org/results/dashboard/patchsets/30997/

UNH-IOL DPDK Community Lab

To manage your email subscriptions, visit: 
https://lab.dpdk.org/results/dashboard/preferences/subscriptions/


More information about the test-report mailing list