|SUCCESS| pw144048 [PATCH] [v4] net/ice: support customized search p
dpdklab at iol.unh.edu
dpdklab at iol.unh.edu
Fri Sep 13 10:06:47 CEST 2024
Test-Label: iol-compile-amd64-testing
Test-Status: SUCCESS
http://dpdk.org/patch/144048
_Testing PASS_
Submitter: Zhichao Zeng <zhichaox.zeng at intel.com>
Date: Friday, September 13 2024 06:15:37
DPDK git baseline: Repo:dpdk
Branch: master
CommitID:c7b0c84b3f04ed928db7ebd7b0ea5dce7714f30b
144048 --> testing pass
Upstream job id: Windows-Compile-DPDK-VS#3092
Test environment and result as below:
+---------------------+----------------------+-----------------------+-------------------+--------------------+
| Environment | dpdk_mingw64_compile | dpdk_win_llvm_compile | dpdk_msvc_compile | dpdk_meson_compile |
+=====================+======================+=======================+===================+====================+
| Windows Server 2022 | PASS | PASS | PASS | SKIPPED |
+---------------------+----------------------+-----------------------+-------------------+--------------------+
| FreeBSD 13.3 | SKIPPED | SKIPPED | SKIPPED | PASS |
+---------------------+----------------------+-----------------------+-------------------+--------------------+
| FreeBSD 14.1 | SKIPPED | SKIPPED | SKIPPED | PASS |
+---------------------+----------------------+-----------------------+-------------------+--------------------+
Windows Server 2022
Kernel: 10.0.20348.2031
Compiler: clang 15.0.7, gcc 14.1.0 (MinGW), and MSVC VS 19.39.33521
FreeBSD 13.3
Kernel: 13.3-RELEASE-p5
Compiler: clang 17.0.6
FreeBSD 14.1
Kernel: 14.1-RELEASE-p3
Compiler: clang 18.1.5
To view detailed results, visit:
https://lab.dpdk.org/results/dashboard/patchsets/31021/
UNH-IOL DPDK Community Lab
To manage your email subscriptions, visit:
https://lab.dpdk.org/results/dashboard/preferences/subscriptions/
More information about the test-report
mailing list