|SUCCESS| [GIT MASTER] 617f9462c13dfe6dbbb8d9c247828a1dfdbb5cb9
dpdklab at iol.unh.edu
dpdklab at iol.unh.edu
Tue Sep 17 16:57:32 CEST 2024
_Testing PASS_
Branch: 21.11-staging
617f9462c13dfe6dbbb8d9c247828a1dfdbb5cb9 --> testing pass
Upstream job id: Windows-Compile-DPDK-Native#22274
Test environment and result as below:
+---------------------+-----------------------+--------------------+----------------------+
| Environment | dpdk_win_llvm_compile | dpdk_meson_compile | dpdk_mingw64_compile |
+=====================+=======================+====================+======================+
| Windows Server 2022 | PASS | SKIPPED | PASS |
+---------------------+-----------------------+--------------------+----------------------+
| FreeBSD 13.3 | SKIPPED | PASS | SKIPPED |
+---------------------+-----------------------+--------------------+----------------------+
| FreeBSD 14.1 | SKIPPED | PASS | SKIPPED |
+---------------------+-----------------------+--------------------+----------------------+
Windows Server 2022
Kernel: 10.0.20348.2031
Compiler: clang 15.0.7, gcc 14.1.0 (MinGW), and MSVC VS 19.39.33521
FreeBSD 13.3
Kernel: 13.3-RELEASE-p5
Compiler: clang 17.0.6
FreeBSD 14.1
Kernel: 14.1-RELEASE-p3
Compiler: clang 18.1.5
To view detailed results, visit:
https://lab.dpdk.org/results/dashboard/tarballs/30623/
UNH-IOL DPDK Community Lab
To manage your email subscriptions, visit:
https://lab.dpdk.org/results/dashboard/preferences/subscriptions/
More information about the test-report
mailing list