|SUCCESS| [GIT MASTER] bd6c7e80fc799c2840a7fcaac4748baa337099e2
dpdklab at iol.unh.edu
dpdklab at iol.unh.edu
Wed Sep 18 04:04:52 CEST 2024
_Testing PASS_
Branch: dpdk-next-crypto
bd6c7e80fc799c2840a7fcaac4748baa337099e2 --> testing pass
Upstream job id: Windows-Compile-DPDK-Native#22294
Test environment and result as below:
+---------------------+-----------------------+--------------------+----------------------+
| Environment | dpdk_win_llvm_compile | dpdk_meson_compile | dpdk_mingw64_compile |
+=====================+=======================+====================+======================+
| Windows Server 2022 | PASS | SKIPPED | PASS |
+---------------------+-----------------------+--------------------+----------------------+
| FreeBSD 13.3 | SKIPPED | PASS | SKIPPED |
+---------------------+-----------------------+--------------------+----------------------+
| FreeBSD 14.1 | SKIPPED | PASS | SKIPPED |
+---------------------+-----------------------+--------------------+----------------------+
Windows Server 2022
Kernel: 10.0.20348.2031
Compiler: clang 15.0.7, gcc 14.1.0 (MinGW), and MSVC VS 19.39.33521
FreeBSD 13.3
Kernel: 13.3-RELEASE-p5
Compiler: clang 17.0.6
FreeBSD 14.1
Kernel: 14.1-RELEASE-p3
Compiler: clang 18.1.5
To view detailed results, visit:
https://lab.dpdk.org/results/dashboard/tarballs/30633/
UNH-IOL DPDK Community Lab
To manage your email subscriptions, visit:
https://lab.dpdk.org/results/dashboard/preferences/subscriptions/
More information about the test-report
mailing list