|SUCCESS| pw144265 [PATCH] crypto/scheduler: fix incorrect variable
dpdklab at iol.unh.edu
dpdklab at iol.unh.edu
Wed Sep 18 22:06:52 CEST 2024
Test-Label: iol-compile-amd64-testing
Test-Status: SUCCESS
http://dpdk.org/patch/144265
_Testing PASS_
Submitter: Yong Liang <1269690261 at qq.com>
Date: Wednesday, September 18 2024 14:15:21
DPDK git baseline: Repo:dpdk
Branch: master
CommitID:3b50d6c67a3c033a49739a0bd1a132aee6d9e324
144265 --> testing pass
Upstream job id: Generic-VM-DPDK-Compile-Meson#29540
Test environment and result as below:
+---------------------+-----------------------+----------------------+--------------------+
| Environment | dpdk_win_llvm_compile | dpdk_mingw64_compile | dpdk_meson_compile |
+=====================+=======================+======================+====================+
| Windows Server 2022 | PASS | PASS | SKIPPED |
+---------------------+-----------------------+----------------------+--------------------+
| FreeBSD 13.3 | SKIPPED | SKIPPED | PASS |
+---------------------+-----------------------+----------------------+--------------------+
| FreeBSD 14.1 | SKIPPED | SKIPPED | PASS |
+---------------------+-----------------------+----------------------+--------------------+
Windows Server 2022
Kernel: 10.0.20348.2031
Compiler: clang 15.0.7, gcc 14.1.0 (MinGW), and MSVC VS 19.39.33521
FreeBSD 13.3
Kernel: 13.3-RELEASE-p5
Compiler: clang 17.0.6
FreeBSD 14.1
Kernel: 14.1-RELEASE-p3
Compiler: clang 18.1.5
To view detailed results, visit:
https://lab.dpdk.org/results/dashboard/patchsets/31068/
UNH-IOL DPDK Community Lab
To manage your email subscriptions, visit:
https://lab.dpdk.org/results/dashboard/preferences/subscriptions/
More information about the test-report
mailing list