|SUCCESS| pw144256-144264 [PATCH] [v2,9/9] net/mlx5: fix flex item h

dpdklab at iol.unh.edu dpdklab at iol.unh.edu
Wed Sep 18 22:51:05 CEST 2024


Test-Label: iol-compile-amd64-testing
Test-Status: SUCCESS
http://dpdk.org/patch/144264

_Testing PASS_

Submitter: Viacheslav Ovsiienko <viacheslavo at nvidia.com>
Date: Wednesday, September 18 2024 13:46:23 
DPDK git baseline: Repo:dpdk
  Branch: master
  CommitID:523fd7b3adfdf5a87651e8ca33bc69223b3211d5

144256-144264 --> testing pass

Upstream job id: Windows-Compile-DPDK-VS#3144

Test environment and result as below:

+---------------------+--------------------+-----------------------+----------------------+-------------------+
|     Environment     | dpdk_meson_compile | dpdk_win_llvm_compile | dpdk_mingw64_compile | dpdk_msvc_compile |
+=====================+====================+=======================+======================+===================+
| FreeBSD 13.3        | PASS               | SKIPPED               | SKIPPED              | SKIPPED           |
+---------------------+--------------------+-----------------------+----------------------+-------------------+
| FreeBSD 14.1        | PASS               | SKIPPED               | SKIPPED              | SKIPPED           |
+---------------------+--------------------+-----------------------+----------------------+-------------------+
| Windows Server 2022 | SKIPPED            | PASS                  | PASS                 | PASS              |
+---------------------+--------------------+-----------------------+----------------------+-------------------+


FreeBSD 13.3
	Kernel: 13.3-RELEASE-p5
	Compiler: clang 17.0.6

FreeBSD 14.1
	Kernel: 14.1-RELEASE-p3
	Compiler: clang 18.1.5

Windows Server 2022
	Kernel: 10.0.20348.2031
	Compiler: clang 15.0.7, gcc 14.1.0 (MinGW), and MSVC VS 19.39.33521

To view detailed results, visit:
https://lab.dpdk.org/results/dashboard/patchsets/31067/

UNH-IOL DPDK Community Lab

To manage your email subscriptions, visit: 
https://lab.dpdk.org/results/dashboard/preferences/subscriptions/


More information about the test-report mailing list