|SUCCESS| pw144246-144247 [PATCH] [v9,6/6] eal: extend bitops to han
dpdklab at iol.unh.edu
dpdklab at iol.unh.edu
Thu Sep 19 03:29:45 CEST 2024
Test-Label: iol-compile-amd64-testing
Test-Status: SUCCESS
http://dpdk.org/patch/144247
_Testing PASS_
Submitter: Mattias Ronnblom <mattias.ronnblom at ericsson.com>
Date: Wednesday, September 18 2024 09:04:45
DPDK git baseline: Repo:dpdk
Branch: master
CommitID:41dd9a6bc2d9c6e20e139ad713cc9d172572dd43
144246-144247 --> testing pass
Upstream job id: Windows-Compile-DPDK-VS#3148
Test environment and result as below:
+---------------------+-----------------------+----------------------+--------------------+-------------------+
| Environment | dpdk_win_llvm_compile | dpdk_mingw64_compile | dpdk_meson_compile | dpdk_msvc_compile |
+=====================+=======================+======================+====================+===================+
| Windows Server 2022 | PASS | PASS | SKIPPED | PASS |
+---------------------+-----------------------+----------------------+--------------------+-------------------+
| FreeBSD 13.3 | SKIPPED | SKIPPED | PASS | SKIPPED |
+---------------------+-----------------------+----------------------+--------------------+-------------------+
| FreeBSD 14.1 | SKIPPED | SKIPPED | PASS | SKIPPED |
+---------------------+-----------------------+----------------------+--------------------+-------------------+
Windows Server 2022
Kernel: 10.0.20348.2031
Compiler: clang 15.0.7, gcc 14.1.0 (MinGW), and MSVC VS 19.39.33521
FreeBSD 13.3
Kernel: 13.3-RELEASE-p5
Compiler: clang 17.0.6
FreeBSD 14.1
Kernel: 14.1-RELEASE-p3
Compiler: clang 18.1.5
To view detailed results, visit:
https://lab.dpdk.org/results/dashboard/patchsets/31062/
UNH-IOL DPDK Community Lab
To manage your email subscriptions, visit:
https://lab.dpdk.org/results/dashboard/preferences/subscriptions/
More information about the test-report
mailing list