|SUCCESS| pw144291-144296 [PATCH] [6/6] app/testpmd: add jump to tab
dpdklab at iol.unh.edu
dpdklab at iol.unh.edu
Thu Sep 19 12:46:34 CEST 2024
Test-Label: iol-compile-amd64-testing
Test-Status: SUCCESS
http://dpdk.org/patch/144296
_Testing PASS_
Submitter: Alexander Kozyrev <akozyrev at nvidia.com>
Date: Thursday, September 19 2024 00:48:13
DPDK git baseline: Repo:dpdk
Branch: master
CommitID:523fd7b3adfdf5a87651e8ca33bc69223b3211d5
144291-144296 --> testing pass
Upstream job id: Generic-VM-DPDK-Compile-Meson#29568
Test environment and result as below:
+---------------------+----------------------+--------------------+
| Environment | dpdk_mingw64_compile | dpdk_meson_compile |
+=====================+======================+====================+
| Windows Server 2022 | PASS | SKIPPED |
+---------------------+----------------------+--------------------+
| FreeBSD 13.3 | SKIPPED | PASS |
+---------------------+----------------------+--------------------+
| FreeBSD 14.1 | SKIPPED | PASS |
+---------------------+----------------------+--------------------+
Windows Server 2022
Kernel: 10.0.20348.2031
Compiler: clang 15.0.7, gcc 14.1.0 (MinGW), and MSVC VS 19.39.33521
FreeBSD 13.3
Kernel: 13.3-RELEASE-p5
Compiler: clang 17.0.6
FreeBSD 14.1
Kernel: 14.1-RELEASE-p3
Compiler: clang 18.1.5
To view detailed results, visit:
https://lab.dpdk.org/results/dashboard/patchsets/31080/
UNH-IOL DPDK Community Lab
To manage your email subscriptions, visit:
https://lab.dpdk.org/results/dashboard/preferences/subscriptions/
More information about the test-report
mailing list