|WARNING| pw144291-144296 [PATCH] [6/6] app/testpmd: add jump to tab

dpdklab at iol.unh.edu dpdklab at iol.unh.edu
Thu Sep 19 17:14:18 CEST 2024


Test-Label: iol-compile-amd64-testing
Test-Status: WARNING
http://dpdk.org/patch/144296

_Testing issues_

Submitter: Alexander Kozyrev <akozyrev at nvidia.com>
Date: Thursday, September 19 2024 00:48:13 
DPDK git baseline: Repo:dpdk
  Branch: master
  CommitID:523fd7b3adfdf5a87651e8ca33bc69223b3211d5

144291-144296 --> testing issues

Upstream job id: Generic-DPDK-Compile-Meson#303191

Test environment and result as below:

+---------------------+----------------------+--------------------+-----------------------+------------------+-------------------+
|     Environment     | dpdk_mingw64_compile | dpdk_meson_compile | dpdk_win_llvm_compile | dpdk_compile_ovs | dpdk_compile_spdk |
+=====================+======================+====================+=======================+==================+===================+
| Windows Server 2022 | PASS                 | SKIPPED            | PASS                  | SKIPPED          | SKIPPED           |
+---------------------+----------------------+--------------------+-----------------------+------------------+-------------------+
| FreeBSD 13.3        | SKIPPED              | PASS               | SKIPPED               | SKIPPED          | SKIPPED           |
+---------------------+----------------------+--------------------+-----------------------+------------------+-------------------+
| FreeBSD 14.1        | SKIPPED              | PASS               | SKIPPED               | SKIPPED          | SKIPPED           |
+---------------------+----------------------+--------------------+-----------------------+------------------+-------------------+
| CentOS Stream 9     | SKIPPED              | PASS               | SKIPPED               | PASS             | PASS              |
+---------------------+----------------------+--------------------+-----------------------+------------------+-------------------+
| Debian Bullseye     | SKIPPED              | PASS               | SKIPPED               | PASS             | PASS              |
+---------------------+----------------------+--------------------+-----------------------+------------------+-------------------+
| Debian 12           | SKIPPED              | PASS               | SKIPPED               | PASS             | PASS              |
+---------------------+----------------------+--------------------+-----------------------+------------------+-------------------+
| Fedora 37           | SKIPPED              | PASS               | SKIPPED               | PASS             | PASS              |
+---------------------+----------------------+--------------------+-----------------------+------------------+-------------------+
| Fedora 38           | SKIPPED              | PASS               | SKIPPED               | PASS             | PASS              |
+---------------------+----------------------+--------------------+-----------------------+------------------+-------------------+
| Fedora 39           | SKIPPED              | PASS               | SKIPPED               | PASS             | WARN              |
+---------------------+----------------------+--------------------+-----------------------+------------------+-------------------+
| Fedora 40 (Clang)   | SKIPPED              | PASS               | SKIPPED               | PASS             | PASS              |
+---------------------+----------------------+--------------------+-----------------------+------------------+-------------------+
| Fedora 40           | SKIPPED              | PASS               | SKIPPED               | PASS             | PASS              |
+---------------------+----------------------+--------------------+-----------------------+------------------+-------------------+
| openSUSE Leap 15    | SKIPPED              | PASS               | SKIPPED               | PASS             | SKIPPED           |
+---------------------+----------------------+--------------------+-----------------------+------------------+-------------------+
| RHEL8               | SKIPPED              | PASS               | SKIPPED               | PASS             | SKIPPED           |
+---------------------+----------------------+--------------------+-----------------------+------------------+-------------------+
| RHEL9               | SKIPPED              | PASS               | SKIPPED               | PASS             | SKIPPED           |
+---------------------+----------------------+--------------------+-----------------------+------------------+-------------------+
| Ubuntu 20.04        | SKIPPED              | PASS               | SKIPPED               | PASS             | SKIPPED           |
+---------------------+----------------------+--------------------+-----------------------+------------------+-------------------+
| Ubuntu 22.04        | SKIPPED              | PASS               | SKIPPED               | PASS             | PASS              |
+---------------------+----------------------+--------------------+-----------------------+------------------+-------------------+
| Ubuntu 24.04        | SKIPPED              | PASS               | SKIPPED               | PASS             | PASS              |
+---------------------+----------------------+--------------------+-----------------------+------------------+-------------------+

==== 20 line log output for Fedora 39 (dpdk_compile_spdk): ====
 --- Failed to get log output --- 
==== End log output ====

Windows Server 2022
	Kernel: 10.0.20348.2031
	Compiler: clang 15.0.7, gcc 14.1.0 (MinGW), and MSVC VS 19.39.33521

FreeBSD 13.3
	Kernel: 13.3-RELEASE-p5
	Compiler: clang 17.0.6

FreeBSD 14.1
	Kernel: 14.1-RELEASE-p3
	Compiler: clang 18.1.5

CentOS Stream 9
	Kernel: Depends on container host
	Compiler: gcc 11.4.1 20231218 (Red Hat 11.4.1-3)

Debian Bullseye
	Kernel: Depends on container host
	Compiler: gcc (Debian 10.2.1-6) 10.2.1 20210110

Debian 12
	Kernel: Depends on container host
	Compiler: gcc (Debian 12.2.0-14) 12.2.0

Fedora 37
	Kernel: Depends on container host system
	Compiler: gcc 12.3.1 20230508 (Red Hat 12.3.1-1)

Fedora 38
	Kernel: Depends on container host
	Compiler: gcc 13.2.1 20240316 (Red Hat 13.2.1-7)

Fedora 39
	Kernel: Depends on container host
	Compiler: gcc 13.3.1 20240522 (Red Hat 13.3.1-1)

Fedora 40 (Clang)
	Kernel: Depends on container host
	Compiler: clang 18.1.6 (Fedora 18.1.6-3.fc40)

Fedora 40
	Kernel: Depends on container host
	Compiler: gcc 14.2.1 20240801 (Red Hat 14.2.1-1)

openSUSE Leap 15
	Kernel: Depends on container host
	Compiler: gcc (SUSE Linux) 7.5.0

RHEL8
	Kernel: Depends on container host
	Compiler: gcc 8.5.0 20210514 (Red Hat 8.5.0-22)

RHEL9
	Kernel: Depends on container host
	Compiler: gcc 11.4.1 20231218 (Red Hat 11.4.1-3)

Ubuntu 20.04
	Kernel: Depends on container host
	Compiler: gcc (Ubuntu 9.4.0-1ubuntu1~20.04.2) 9.4.0

Ubuntu 22.04
	Kernel: Depends on container host
	Compiler: gcc (Ubuntu 11.4.0-1ubuntu1~22.04) 11.4.0

Ubuntu 24.04
	Kernel: Depends on container host
	Compiler: gcc (Ubuntu 13.2.0-23ubuntu4) 13.2.0

To view detailed results, visit:
https://lab.dpdk.org/results/dashboard/patchsets/31080/

UNH-IOL DPDK Community Lab

To manage your email subscriptions, visit: 
https://lab.dpdk.org/results/dashboard/preferences/subscriptions/


More information about the test-report mailing list