|SUCCESS| pw144300 [PATCH] net/iavf: fix mac address with i40e PF Li
dpdklab at iol.unh.edu
dpdklab at iol.unh.edu
Thu Sep 19 22:24:10 CEST 2024
Test-Label: iol-compile-amd64-testing
Test-Status: SUCCESS
http://dpdk.org/patch/144300
_Testing PASS_
Submitter: David Marchand <david.marchand at redhat.com>
Date: Thursday, September 19 2024 12:00:39
DPDK git baseline: Repo:dpdk
Branch: master
CommitID:a071bb2a52b01a4e189047192b121a5721105d7a
144300 --> testing pass
Upstream job id: Windows-Compile-DPDK-VS#3162
Test environment and result as below:
+---------------------+--------------------+-----------------------+----------------------+-------------------+
| Environment | dpdk_meson_compile | dpdk_win_llvm_compile | dpdk_mingw64_compile | dpdk_msvc_compile |
+=====================+====================+=======================+======================+===================+
| FreeBSD 13.3 | PASS | SKIPPED | SKIPPED | SKIPPED |
+---------------------+--------------------+-----------------------+----------------------+-------------------+
| FreeBSD 14.1 | PASS | SKIPPED | SKIPPED | SKIPPED |
+---------------------+--------------------+-----------------------+----------------------+-------------------+
| Windows Server 2022 | SKIPPED | PASS | PASS | PASS |
+---------------------+--------------------+-----------------------+----------------------+-------------------+
FreeBSD 13.3
Kernel: 13.3-RELEASE-p5
Compiler: clang 17.0.6
FreeBSD 14.1
Kernel: 14.1-RELEASE-p3
Compiler: clang 18.1.5
Windows Server 2022
Kernel: 10.0.20348.2031
Compiler: clang 15.0.7, gcc 14.1.0 (MinGW), and MSVC VS 19.39.33521
To view detailed results, visit:
https://lab.dpdk.org/results/dashboard/patchsets/31083/
UNH-IOL DPDK Community Lab
To manage your email subscriptions, visit:
https://lab.dpdk.org/results/dashboard/preferences/subscriptions/
More information about the test-report
mailing list