|SUCCESS| pw144317 [PATCH] [v2] common/cnxk: unregister IRQ before r

dpdklab at iol.unh.edu dpdklab at iol.unh.edu
Fri Sep 20 02:22:14 CEST 2024


Test-Label: iol-compile-amd64-testing
Test-Status: SUCCESS
http://dpdk.org/patch/144317

_Testing PASS_

Submitter: Pavan Nikhilesh Bhagavatula <pbhagavatula at marvell.com>
Date: Thursday, September 19 2024 18:02:43 
DPDK git baseline: Repo:dpdk
  Branch: master
  CommitID:4d32befce308cbef6dbaab5dc5214678b3781758

144317 --> testing pass

Upstream job id: Generic-VM-DPDK-Compile-Meson#29591

Test environment and result as below:

+---------------------+-----------------------+----------------------+--------------------+
|     Environment     | dpdk_win_llvm_compile | dpdk_mingw64_compile | dpdk_meson_compile |
+=====================+=======================+======================+====================+
| Windows Server 2022 | PASS                  | PASS                 | SKIPPED            |
+---------------------+-----------------------+----------------------+--------------------+
| FreeBSD 13.3        | SKIPPED               | SKIPPED              | PASS               |
+---------------------+-----------------------+----------------------+--------------------+


Windows Server 2022
	Kernel: 10.0.20348.2031
	Compiler: clang 15.0.7, gcc 14.1.0 (MinGW), and MSVC VS 19.39.33521

FreeBSD 13.3
	Kernel: 13.3-RELEASE-p5
	Compiler: clang 17.0.6

To view detailed results, visit:
https://lab.dpdk.org/results/dashboard/patchsets/31086/

UNH-IOL DPDK Community Lab

To manage your email subscriptions, visit: 
https://lab.dpdk.org/results/dashboard/preferences/subscriptions/


More information about the test-report mailing list