|SUCCESS| [GIT MASTER] 94d8b04cfa53a41ab952b48f245867111a6f2509

dpdklab at iol.unh.edu dpdklab at iol.unh.edu
Fri Sep 20 14:57:23 CEST 2024


_Testing PASS_

Branch: dpdk-next-virtio

94d8b04cfa53a41ab952b48f245867111a6f2509 --> testing pass

Upstream job id: Generic-Unit-Test-DPDK#264938

Test environment and result as below:

+-----------------------------+--------------+------------------------------+---------------------------+----------------+
|         Environment         | lpm_autotest | cryptodev_sw_snow3g_autotest | cryptodev_sw_zuc_autotest | dpdk_unit_test |
+=============================+==============+==============================+===========================+================+
| Ubuntu 20.04 ARM SVE        | PASS         | SKIPPED                      | SKIPPED                   | SKIPPED        |
+-----------------------------+--------------+------------------------------+---------------------------+----------------+
| Debian 12 (arm)             | SKIPPED      | PASS                         | PASS                      | PASS           |
+-----------------------------+--------------+------------------------------+---------------------------+----------------+
| Debian 11 (Buster) (ARM)    | SKIPPED      | SKIPPED                      | SKIPPED                   | PASS           |
+-----------------------------+--------------+------------------------------+---------------------------+----------------+
| CentOS Stream 9 (ARM)       | SKIPPED      | SKIPPED                      | SKIPPED                   | PASS           |
+-----------------------------+--------------+------------------------------+---------------------------+----------------+
| 32-bit Ubuntu 20.04.4 (ARM) | SKIPPED      | SKIPPED                      | SKIPPED                   | PASS           |
+-----------------------------+--------------+------------------------------+---------------------------+----------------+
| Fedora 37 (ARM)             | SKIPPED      | SKIPPED                      | SKIPPED                   | PASS           |
+-----------------------------+--------------+------------------------------+---------------------------+----------------+
| Fedora 38 (ARM)             | SKIPPED      | SKIPPED                      | SKIPPED                   | PASS           |
+-----------------------------+--------------+------------------------------+---------------------------+----------------+
| Fedora 38 (ARM Clang)       | SKIPPED      | SKIPPED                      | SKIPPED                   | PASS           |
+-----------------------------+--------------+------------------------------+---------------------------+----------------+
| Fedora 39 (ARM)             | SKIPPED      | SKIPPED                      | SKIPPED                   | PASS           |
+-----------------------------+--------------+------------------------------+---------------------------+----------------+
| Fedora 39 (ARM Clang)       | SKIPPED      | SKIPPED                      | SKIPPED                   | PASS           |
+-----------------------------+--------------+------------------------------+---------------------------+----------------+
| Fedora 40 (ARM)             | SKIPPED      | SKIPPED                      | SKIPPED                   | PASS           |
+-----------------------------+--------------+------------------------------+---------------------------+----------------+
| Fedora 40 (ARM Clang)       | SKIPPED      | SKIPPED                      | SKIPPED                   | PASS           |
+-----------------------------+--------------+------------------------------+---------------------------+----------------+
| Ubuntu 20.04 (ARM)          | SKIPPED      | SKIPPED                      | SKIPPED                   | PASS           |
+-----------------------------+--------------+------------------------------+---------------------------+----------------+
| Ubuntu 22.04 (ARM)          | SKIPPED      | SKIPPED                      | SKIPPED                   | PASS           |
+-----------------------------+--------------+------------------------------+---------------------------+----------------+
| Ubuntu 24.04 (ARM)          | SKIPPED      | SKIPPED                      | SKIPPED                   | PASS           |
+-----------------------------+--------------+------------------------------+---------------------------+----------------+
| RHEL9 (ARM)                 | SKIPPED      | SKIPPED                      | SKIPPED                   | PASS           |
+-----------------------------+--------------+------------------------------+---------------------------+----------------+


Ubuntu 20.04 ARM SVE
	Kernel: Depends on container host
	Compiler: gcc (Ubuntu 10.5.0-1ubuntu1~20.04) 10.5.0

Debian 12 (arm)
	Kernel: Depends on container host
	Compiler: gcc (Debian 12.2.0-14) 12.2.0

Debian 11 (Buster) (ARM)
	Kernel: Depends on container host
	Compiler: gcc (Debian 10.2.1-6) 10.2.1 20210110

CentOS Stream 9 (ARM)
	Kernel: Depends on container host
	Compiler: gcc 11.4.1 20231218 (Red Hat 11.4.1-3)

32-bit Ubuntu 20.04.4 (ARM)
	Kernel: 5.4.0-155-generic aarch64
	Compiler: gcc 9.4

Fedora 37 (ARM)
	Kernel: Depends on container host
	Compiler: gcc 12.3.1 20230508 (Red Hat 12.3.1-1)

Fedora 38 (ARM)
	Kernel: Depends on container host
	Compiler: gcc 13.2.1 20240316 (Red Hat 13.2.1-7)

Fedora 38 (ARM Clang)
	Kernel: Depends on container host
	Compiler: clang 16.0.6 (Fedora 16.0.6-4.fc38)

Fedora 39 (ARM)
	Kernel: Depends on container host
	Compiler: gcc 13.3.1 20240522 (Red Hat 13.3.1-1)

Fedora 39 (ARM Clang)
	Kernel: Depends on container host
	Compiler: clang 17.0.6 (Fedora 17.0.6-2.fc39)

Fedora 40 (ARM)
	Kernel: Depends on container host
	Compiler: gcc 14.2.1 20240801 (Red Hat 14.2.1-1)

Fedora 40 (ARM Clang)
	Kernel: Depends on container host
	Compiler: clang 18.1.6 (Fedora 18.1.6-3.fc40)

Ubuntu 20.04 (ARM)
	Kernel: Depends on container host
	Compiler: gcc (Ubuntu 9.4.0-1ubuntu1~20.04.2) 9.4.0

Ubuntu 22.04 (ARM)
	Kernel: Depends on container host
	Compiler: gcc (Ubuntu 11.4.0-1ubuntu1~22.04) 11.4.0

Ubuntu 24.04 (ARM)
	Kernel: Depends on container host
	Compiler: gcc (Ubuntu 13.2.0-23ubuntu4) 13.2.0

RHEL9 (ARM)
	Kernel: Depends on container host
	Compiler: gcc 11.4.1 20231218 (Red Hat 11.4.1-3)

To view detailed results, visit:
https://lab.dpdk.org/results/dashboard/tarballs/30680/

UNH-IOL DPDK Community Lab

To manage your email subscriptions, visit: 
https://lab.dpdk.org/results/dashboard/preferences/subscriptions/


More information about the test-report mailing list