|SUCCESS| pw144365-144366 [PATCH] [v2,2/2] vhost: add reconnection s

dpdklab at iol.unh.edu dpdklab at iol.unh.edu
Fri Sep 20 23:27:25 CEST 2024


Test-Label: iol-compile-amd64-testing
Test-Status: SUCCESS
http://dpdk.org/patch/144366

_Testing PASS_

Submitter: Maxime Coquelin <maxime.coquelin at redhat.com>
Date: Friday, September 20 2024 15:09:21 
DPDK git baseline: Repo:dpdk
  Branch: master
  CommitID:94d8b04cfa53a41ab952b48f245867111a6f2509

144365-144366 --> testing pass

Upstream job id: Windows-Compile-DPDK-VS#3178

Test environment and result as below:

+---------------------+-----------------------+----------------------+--------------------+-------------------+
|     Environment     | dpdk_win_llvm_compile | dpdk_mingw64_compile | dpdk_meson_compile | dpdk_msvc_compile |
+=====================+=======================+======================+====================+===================+
| Windows Server 2022 | PASS                  | PASS                 | SKIPPED            | PASS              |
+---------------------+-----------------------+----------------------+--------------------+-------------------+
| FreeBSD 13.3        | SKIPPED               | SKIPPED              | PASS               | SKIPPED           |
+---------------------+-----------------------+----------------------+--------------------+-------------------+


Windows Server 2022
	Kernel: 10.0.20348.2031
	Compiler: clang 15.0.7, gcc 14.1.0 (MinGW), and MSVC VS 19.39.33521

FreeBSD 13.3
	Kernel: 13.3-RELEASE-p5
	Compiler: clang 17.0.6

To view detailed results, visit:
https://lab.dpdk.org/results/dashboard/patchsets/31101/

UNH-IOL DPDK Community Lab

To manage your email subscriptions, visit: 
https://lab.dpdk.org/results/dashboard/preferences/subscriptions/


More information about the test-report mailing list