|WARNING| [GIT MASTER] ff4d4839f9c2a6d05dca0a25ed6b1549402e1682

dpdklab at iol.unh.edu dpdklab at iol.unh.edu
Sat Sep 21 00:13:48 CEST 2024


_Testing issues_

Branch: tags/v22.11

ff4d4839f9c2a6d05dca0a25ed6b1549402e1682 --> testing issues

Upstream job id: ACVP-FIPS-testing#7004

Test environment and result as below:

+--------------------+----------------------+----------------------+
|    Environment     | compressdev_zlib_pmd | dpdk_fips_validation |
+====================+======================+======================+
| Ubuntu 22.04 (ARM) | PASS                 | SKIPPED              |
+--------------------+----------------------+----------------------+
| Ubuntu 22.04       | PASS                 | SKIPPED              |
+--------------------+----------------------+----------------------+
| Ubuntu 20.04       | SKIPPED              | WARN                 |
+--------------------+----------------------+----------------------+

==== 20 line log output for Ubuntu 20.04 (dpdk_fips_validation): ====
[3521/3534] Compiling C object 'examples/c590b3c@@dpdk-fips_validation at exe/fips_validation_fips_validation_sha.c.o'.
[3522/3534] Compiling C object 'examples/c590b3c@@dpdk-fips_validation at exe/fips_validation_fips_validation_xts.c.o'.
[3523/3534] Compiling C object 'examples/c590b3c@@dpdk-fips_validation at exe/fips_validation_fips_validation_ecdsa.c.o'.
[3524/3534] Compiling C object 'app/test/3062f5d@@dpdk-test at exe/test_ring_perf.c.o'.
[3525/3534] Linking target app/dpdk-test-sad.
[3526/3534] Compiling C object 'examples/c590b3c@@dpdk-fips_validation at exe/fips_validation_fips_validation_rsa.c.o'.
[3527/3534] Linking target app/dpdk-test-security-perf.
[3528/3534] Compiling C object 'app/test/3062f5d@@dpdk-test at exe/test_trace_perf.c.o'.
[3529/3534] Compiling C object 'examples/c590b3c@@dpdk-fips_validation at exe/fips_validation_fips_dev_self_test.c.o'.
[3530/3534] Compiling C object 'app/test/3062f5d@@dpdk-test at exe/test_compressdev.c.o'.
[3531/3534] Compiling C object 'examples/c590b3c@@dpdk-fips_validation at exe/fips_validation_main.c.o'.
[3532/3534] Linking target examples/dpdk-fips_validation.
[3533/3534] Compiling C object 'app/test/3062f5d@@dpdk-test at exe/test_ring.c.o'.
[3534/3534] Linking target app/test/dpdk-test.
Processing file ../out/acvp-aes-cbc-vectors.json... Done
Processing file ../out/cmac-aes-vectors.json... Done
Processing file ../out/acvp-aes-gmac-vectors.json... Done
Processing file ../out/hmac-sha-1-vectors.json... Done
Processing file ../out/acvp-tdes-cbc-vectors.json... Done
Processing file ../out/acvp-aes-ctr-vectors.json...
==== End log output ====

Ubuntu 22.04 (ARM)
	Kernel: 5.15.0-97-generic
	Compiler: gcc gcc (Ubuntu 11.4.0-1ubuntu1~22.04) 11.4.0

Ubuntu 22.04
	Kernel: 5.15.0-100-generic
	Compiler: gcc gcc (Ubuntu 11.4.0-1ubuntu1~22.04) 11.4.0

Ubuntu 20.04
	Kernel: Depends on container host
	Compiler: gcc (Ubuntu 9.4.0-1ubuntu1~20.04.2) 9.4.0

To view detailed results, visit:
https://lab.dpdk.org/results/dashboard/tarballs/30666/

UNH-IOL DPDK Community Lab

To manage your email subscriptions, visit: 
https://lab.dpdk.org/results/dashboard/preferences/subscriptions/


More information about the test-report mailing list