|SUCCESS| [GIT MASTER] d20fd65f258afb5b572fe686b7d1032aeb95e079

dpdklab at iol.unh.edu dpdklab at iol.unh.edu
Sat Sep 21 07:19:11 CEST 2024


_Testing PASS_

Branch: tags/v21.11

d20fd65f258afb5b572fe686b7d1032aeb95e079 --> testing pass

Upstream job id: Windows-Compile-DPDK-Native#22415

Test environment and result as below:

+---------------------+----------------------+-----------------------+--------------------+
|     Environment     | dpdk_mingw64_compile | dpdk_win_llvm_compile | dpdk_meson_compile |
+=====================+======================+=======================+====================+
| Windows Server 2022 | PASS                 | PASS                  | SKIPPED            |
+---------------------+----------------------+-----------------------+--------------------+
| FreeBSD 13.3        | SKIPPED              | SKIPPED               | PASS               |
+---------------------+----------------------+-----------------------+--------------------+
| FreeBSD 14.1        | SKIPPED              | SKIPPED               | PASS               |
+---------------------+----------------------+-----------------------+--------------------+


Windows Server 2022
	Kernel: 10.0.20348.2031
	Compiler: clang 15.0.7, gcc 14.1.0 (MinGW), and MSVC VS 19.39.33521

FreeBSD 13.3
	Kernel: 13.3-RELEASE-p5
	Compiler: clang 17.0.6

FreeBSD 14.1
	Kernel: 14.1-RELEASE-p3
	Compiler: clang 18.1.5

To view detailed results, visit:
https://lab.dpdk.org/results/dashboard/tarballs/30694/

UNH-IOL DPDK Community Lab

To manage your email subscriptions, visit: 
https://lab.dpdk.org/results/dashboard/preferences/subscriptions/


More information about the test-report mailing list