|SUCCESS| [GIT MASTER] ff4d4839f9c2a6d05dca0a25ed6b1549402e1682

dpdklab at iol.unh.edu dpdklab at iol.unh.edu
Sat Sep 21 12:15:28 CEST 2024


_Testing PASS_

Branch: tags/v22.11

ff4d4839f9c2a6d05dca0a25ed6b1549402e1682 --> testing pass

Upstream job id: Generic-Unit-Test-DPDK#265451

Test environment and result as below:

+-----------------------------+---------------------------+--------------+----------------+------------------------------+
|         Environment         | cryptodev_sw_zuc_autotest | lpm_autotest | dpdk_unit_test | cryptodev_sw_snow3g_autotest |
+=============================+===========================+==============+================+==============================+
| Debian 12 (arm)             | PASS                      | SKIPPED      | SKIPPED        | PASS                         |
+-----------------------------+---------------------------+--------------+----------------+------------------------------+
| Ubuntu 20.04 ARM SVE        | SKIPPED                   | PASS         | SKIPPED        | SKIPPED                      |
+-----------------------------+---------------------------+--------------+----------------+------------------------------+
| 32-bit Ubuntu 20.04.4 (ARM) | SKIPPED                   | SKIPPED      | PASS           | SKIPPED                      |
+-----------------------------+---------------------------+--------------+----------------+------------------------------+


Debian 12 (arm)
	Kernel: Depends on container host
	Compiler: gcc (Debian 12.2.0-14) 12.2.0

Ubuntu 20.04 ARM SVE
	Kernel: Depends on container host
	Compiler: gcc (Ubuntu 10.5.0-1ubuntu1~20.04) 10.5.0

32-bit Ubuntu 20.04.4 (ARM)
	Kernel: 5.4.0-155-generic aarch64
	Compiler: gcc 9.4

To view detailed results, visit:
https://lab.dpdk.org/results/dashboard/tarballs/30695/

UNH-IOL DPDK Community Lab

To manage your email subscriptions, visit: 
https://lab.dpdk.org/results/dashboard/preferences/subscriptions/


More information about the test-report mailing list