|WARNING| pw144354-144358 [PATCH] [5/5] build: replace deprecated me

dpdklab at iol.unh.edu dpdklab at iol.unh.edu
Sat Sep 21 17:09:54 CEST 2024


Test-Label: iol-sample-apps-testing
Test-Status: WARNING
http://dpdk.org/patch/144358

_Testing issues_

Submitter: Bruce Richardson <bruce.richardson at intel.com>
Date: Friday, September 20 2024 12:57:37 
DPDK git baseline: Repo:dpdk
  Branch: master
  CommitID:41dd9a6bc2d9c6e20e139ad713cc9d172572dd43

144354-144358 --> testing issues

Upstream job id: ACVP-FIPS-testing#7024

Test environment and result as below:

+--------------------+----------------------+----------------------+
|    Environment     | compressdev_zlib_pmd | dpdk_fips_validation |
+====================+======================+======================+
| Ubuntu 22.04 (ARM) | PASS                 | SKIPPED              |
+--------------------+----------------------+----------------------+
| Ubuntu 22.04       | PASS                 | SKIPPED              |
+--------------------+----------------------+----------------------+
| Ubuntu 20.04       | SKIPPED              | WARN                 |
+--------------------+----------------------+----------------------+

==== 20 line log output for Ubuntu 20.04 (dpdk_fips_validation): ====
The Meson build system
Version: 0.53.2
Source dir: /home-local/jenkins-local/jenkins-agent/workspace/ACVP-FIPS-testing/dpdk
Build dir: /home-local/jenkins-local/jenkins-agent/workspace/ACVP-FIPS-testing/dpdk/build
Build type: native build

meson.build:4:0: ERROR: Meson version is 0.53.2 but project requires >= 0.57

A full log can be found at /home-local/jenkins-local/jenkins-agent/workspace/ACVP-FIPS-testing/dpdk/build/meson-logs/meson-log.txt
==== End log output ====

Ubuntu 22.04 (ARM)
	Kernel: 5.15.0-97-generic
	Compiler: gcc gcc (Ubuntu 11.4.0-1ubuntu1~22.04) 11.4.0

Ubuntu 22.04
	Kernel: 5.15.0-100-generic
	Compiler: gcc gcc (Ubuntu 11.4.0-1ubuntu1~22.04) 11.4.0

Ubuntu 20.04
	Kernel: Depends on container host
	Compiler: gcc (Ubuntu 9.4.0-1ubuntu1~20.04.2) 9.4.0

To view detailed results, visit:
https://lab.dpdk.org/results/dashboard/patchsets/31099/

UNH-IOL DPDK Community Lab

To manage your email subscriptions, visit: 
https://lab.dpdk.org/results/dashboard/preferences/subscriptions/


More information about the test-report mailing list