|SUCCESS| pw144373 [PATCH] [v5,1/1] testpmd: add hairpin-map paramet

dpdklab at iol.unh.edu dpdklab at iol.unh.edu
Sun Sep 22 11:05:08 CEST 2024


Test-Label: iol-compile-amd64-testing
Test-Status: SUCCESS
http://dpdk.org/patch/144373

_Testing PASS_

Submitter: Gregory Etelson <getelson at nvidia.com>
Date: Sunday, September 22 2024 06:50:53 
DPDK git baseline: Repo:dpdk
  Branch: master
  CommitID:cf4e3702412a8580bfe1fb8fff1db73517f7c796

144373 --> testing pass

Upstream job id: Generic-VM-DPDK-Compile-Meson#29650

Test environment and result as below:

+---------------------+-----------------------+----------------------+-------------------+--------------------+
|     Environment     | dpdk_win_llvm_compile | dpdk_mingw64_compile | dpdk_msvc_compile | dpdk_meson_compile |
+=====================+=======================+======================+===================+====================+
| Windows Server 2022 | PASS                  | PASS                 | PASS              | SKIPPED            |
+---------------------+-----------------------+----------------------+-------------------+--------------------+
| FreeBSD 13.3        | SKIPPED               | SKIPPED              | SKIPPED           | PASS               |
+---------------------+-----------------------+----------------------+-------------------+--------------------+
| FreeBSD 14.1        | SKIPPED               | SKIPPED              | SKIPPED           | PASS               |
+---------------------+-----------------------+----------------------+-------------------+--------------------+


Windows Server 2022
	Kernel: 10.0.20348.2031
	Compiler: clang 15.0.7, gcc 14.1.0 (MinGW), and MSVC VS 19.39.33521

FreeBSD 13.3
	Kernel: 13.3-RELEASE-p5
	Compiler: clang 17.0.6

FreeBSD 14.1
	Kernel: 14.1-RELEASE-p3
	Compiler: clang 18.1.5

To view detailed results, visit:
https://lab.dpdk.org/results/dashboard/patchsets/31107/

UNH-IOL DPDK Community Lab

To manage your email subscriptions, visit: 
https://lab.dpdk.org/results/dashboard/preferences/subscriptions/


More information about the test-report mailing list