|SUCCESS| pw144390 [PATCH] [v1] ethdev: fix int overflow in descript
dpdklab at iol.unh.edu
dpdklab at iol.unh.edu
Mon Sep 23 22:35:13 CEST 2024
Test-Label: iol-sample-apps-testing
Test-Status: SUCCESS
http://dpdk.org/patch/144390
_Testing PASS_
Submitter: Niall Meade <niall.meade at intel.com>
Date: Monday, September 23 2024 09:26:01
DPDK git baseline: Repo:dpdk
Branch: master
CommitID:177572d1fa5aad1f3c13206b6fae0195d7e55934
144390 --> testing pass
Upstream job id: Template-DTS-Pipeline#183026
Test environment and result as below:
+--------------------+----------------------+----------------------+
| Environment | dpdk_fips_validation | compressdev_zlib_pmd |
+====================+======================+======================+
| Ubuntu 20.04 | PASS | SKIPPED |
+--------------------+----------------------+----------------------+
| Ubuntu 22.04 (ARM) | SKIPPED | PASS |
+--------------------+----------------------+----------------------+
| Ubuntu 22.04 | SKIPPED | PASS |
+--------------------+----------------------+----------------------+
Ubuntu 20.04
Kernel: Depends on container host
Compiler: gcc (Ubuntu 9.4.0-1ubuntu1~20.04.2) 9.4.0
Ubuntu 22.04 (ARM)
Kernel: 5.15.0-97-generic
Compiler: gcc gcc (Ubuntu 11.4.0-1ubuntu1~22.04) 11.4.0
Ubuntu 22.04
Kernel: 5.15.0-100-generic
Compiler: gcc gcc (Ubuntu 11.4.0-1ubuntu1~22.04) 11.4.0
To view detailed results, visit:
https://lab.dpdk.org/results/dashboard/patchsets/31112/
UNH-IOL DPDK Community Lab
To manage your email subscriptions, visit:
https://lab.dpdk.org/results/dashboard/preferences/subscriptions/
More information about the test-report
mailing list