|WARNING| pw144400 [PATCH] [RFC,v5] mempool: fix mempool cache size
dpdklab at iol.unh.edu
dpdklab at iol.unh.edu
Tue Sep 24 13:32:56 CEST 2024
Test-Label: iol-unit-amd64-testing
Test-Status: WARNING
http://dpdk.org/patch/144400
_Testing issues_
Submitter: Morten Brorup <mb at smartsharesystems.com>
Date: Tuesday, September 24 2024 03:58:46
DPDK git baseline: Repo:dpdk
Branch: master
CommitID:41dd9a6bc2d9c6e20e139ad713cc9d172572dd43
144400 --> testing issues
Upstream job id: Generic-Unit-Test-DPDK#265971
Test environment and result as below:
+-------------------+----------------+
| Environment | dpdk_unit_test |
+===================+================+
| CentOS Stream 9 | WARN |
+-------------------+----------------+
| Debian Bullseye | WARN |
+-------------------+----------------+
| Debian 12 | WARN |
+-------------------+----------------+
| Fedora 37 | WARN |
+-------------------+----------------+
| Fedora 38 | WARN |
+-------------------+----------------+
| Fedora 38 (Clang) | PASS |
+-------------------+----------------+
| Fedora 39 | WARN |
+-------------------+----------------+
| Fedora 39 (Clang) | PASS |
+-------------------+----------------+
| Fedora 40 | WARN |
+-------------------+----------------+
| Fedora 40 (Clang) | PASS |
+-------------------+----------------+
| RHEL8 | PASS |
+-------------------+----------------+
| RHEL9 | WARN |
+-------------------+----------------+
| Ubuntu 20.04 | PASS |
+-------------------+----------------+
| Ubuntu 22.04 | WARN |
+-------------------+----------------+
| Ubuntu 24.04 | WARN |
+-------------------+----------------+
==== 20 line log output for Ubuntu 24.04 (dpdk_unit_test): ====
inlined from 'rte_memcpy' at ../lib/eal/x86/include/rte_memcpy.h:755:10,
inlined from 'rte_mempool_do_generic_put_split' at ../lib/mempool/rte_mempool.h:1401:2,
inlined from 'rte_mempool_do_generic_put' at ../lib/mempool/rte_mempool.h:1441:3,
inlined from 'rte_mempool_generic_put' at ../lib/mempool/rte_mempool.h:1478:2,
inlined from 'rte_mempool_put_bulk' at ../lib/mempool/rte_mempool.h:1502:2,
inlined from 'rte_mempool_put' at ../lib/mempool/rte_mempool.h:1520:2,
inlined from 'edma_enq_to_dma_dev' at ../lib/eventdev/rte_event_dma_adapter.c:522:5,
inlined from 'edma_adapter_enq_run' at ../lib/eventdev/rte_event_dma_adapter.c:632:18:
/usr/lib/gcc/x86_64-linux-gnu/13/include/emmintrin.h:706:10: error: array subscript '__m128i_u[0]' is partly outside array bounds of 'void[8]' [-Werror=array-bounds=]
706 | return *__P;
| ^~~~
../lib/eventdev/rte_event_dma_adapter.c: In function 'edma_adapter_enq_run':
../lib/eventdev/rte_event_dma_adapter.c:497:1: note: object 'obj' of size 8
497 | edma_enq_to_dma_dev(struct event_dma_adapter *adapter, struct rte_event *ev, unsigned int cnt)
| ^~~~~~~~~~~~~~~~~~~
cc1: all warnings being treated as errors
[228/2945] Generating eal.sym_chk with a meson_exe.py custom command.
[229/2945] Generating ethdev.sym_chk with a meson_exe.py custom command.
[230/2945] Compiling C object 'lib/76b5a35@@rte_eventdev at sta/eventdev_rte_event_eth_rx_adapter.c.o'.
ninja: build stopped: subcommand failed.
==== End log output ====
CentOS Stream 9
Kernel: Depends on container host
Compiler: gcc 11.4.1 20231218 (Red Hat 11.4.1-3)
Debian Bullseye
Kernel: Depends on container host
Compiler: gcc (Debian 10.2.1-6) 10.2.1 20210110
Debian 12
Kernel: Depends on container host
Compiler: gcc (Debian 12.2.0-14) 12.2.0
Fedora 37
Kernel: Depends on container host system
Compiler: gcc 12.3.1 20230508 (Red Hat 12.3.1-1)
Fedora 38
Kernel: Depends on container host
Compiler: gcc 13.2.1 20240316 (Red Hat 13.2.1-7)
Fedora 38 (Clang)
Kernel: Depends on container host
Compiler: clang 16.0.6 (Fedora 16.0.6-4.fc38)
Fedora 39
Kernel: Depends on container host
Compiler: gcc 13.3.1 20240522 (Red Hat 13.3.1-1)
Fedora 39 (Clang)
Kernel: Depends on container host
Compiler: clang 17.0.6 (Fedora 17.0.6-2.fc39)
Fedora 40
Kernel: Depends on container host
Compiler: gcc 14.2.1 20240801 (Red Hat 14.2.1-1)
Fedora 40 (Clang)
Kernel: Depends on container host
Compiler: clang 18.1.6 (Fedora 18.1.6-3.fc40)
RHEL8
Kernel: Depends on container host
Compiler: gcc 8.5.0 20210514 (Red Hat 8.5.0-22)
RHEL9
Kernel: Depends on container host
Compiler: gcc 11.4.1 20231218 (Red Hat 11.4.1-3)
Ubuntu 20.04
Kernel: Depends on container host
Compiler: gcc (Ubuntu 9.4.0-1ubuntu1~20.04.2) 9.4.0
Ubuntu 22.04
Kernel: Depends on container host
Compiler: gcc (Ubuntu 11.4.0-1ubuntu1~22.04) 11.4.0
Ubuntu 24.04
Kernel: Depends on container host
Compiler: gcc (Ubuntu 13.2.0-23ubuntu4) 13.2.0
To view detailed results, visit:
https://lab.dpdk.org/results/dashboard/patchsets/31116/
UNH-IOL DPDK Community Lab
To manage your email subscriptions, visit:
https://lab.dpdk.org/results/dashboard/preferences/subscriptions/
More information about the test-report
mailing list