|SUCCESS| pw144408 [PATCH] net/ice/base: update README

dpdklab at iol.unh.edu dpdklab at iol.unh.edu
Tue Sep 24 22:43:04 CEST 2024


Test-Label: iol-compile-amd64-testing
Test-Status: SUCCESS
http://dpdk.org/patch/144408

_Testing PASS_

Submitter: Ian Stokes <ian.stokes at intel.com>
Date: Tuesday, September 24 2024 10:49:26 
DPDK git baseline: Repo:dpdk
  Branch: master
  CommitID:b98491e1cada9384886a55369aecf2bccc80b4cc

144408 --> testing pass

Upstream job id: Generic-DPDK-Compile-Meson#305242

Test environment and result as below:

+---------------------+--------------------+------------------+-------------------+----------------------+-----------------------+
|     Environment     | dpdk_meson_compile | dpdk_compile_ovs | dpdk_compile_spdk | dpdk_mingw64_compile | dpdk_win_llvm_compile |
+=====================+====================+==================+===================+======================+=======================+
| CentOS Stream 9     | PASS               | PASS             | PASS              | SKIPPED              | SKIPPED               |
+---------------------+--------------------+------------------+-------------------+----------------------+-----------------------+
| Debian Bullseye     | PASS               | PASS             | PASS              | SKIPPED              | SKIPPED               |
+---------------------+--------------------+------------------+-------------------+----------------------+-----------------------+
| Debian 12           | PASS               | PASS             | PASS              | SKIPPED              | SKIPPED               |
+---------------------+--------------------+------------------+-------------------+----------------------+-----------------------+
| Fedora 39 (Clang)   | PASS               | PASS             | PASS              | SKIPPED              | SKIPPED               |
+---------------------+--------------------+------------------+-------------------+----------------------+-----------------------+
| Fedora 38           | PASS               | PASS             | PASS              | SKIPPED              | SKIPPED               |
+---------------------+--------------------+------------------+-------------------+----------------------+-----------------------+
| Fedora 37           | PASS               | PASS             | PASS              | SKIPPED              | SKIPPED               |
+---------------------+--------------------+------------------+-------------------+----------------------+-----------------------+
| Fedora 40           | PASS               | PASS             | PASS              | SKIPPED              | SKIPPED               |
+---------------------+--------------------+------------------+-------------------+----------------------+-----------------------+
| Fedora 40 (Clang)   | PASS               | PASS             | PASS              | SKIPPED              | SKIPPED               |
+---------------------+--------------------+------------------+-------------------+----------------------+-----------------------+
| Fedora 39           | PASS               | PASS             | PASS              | SKIPPED              | SKIPPED               |
+---------------------+--------------------+------------------+-------------------+----------------------+-----------------------+
| openSUSE Leap 15    | PASS               | PASS             | SKIPPED           | SKIPPED              | SKIPPED               |
+---------------------+--------------------+------------------+-------------------+----------------------+-----------------------+
| RHEL8               | PASS               | PASS             | SKIPPED           | SKIPPED              | SKIPPED               |
+---------------------+--------------------+------------------+-------------------+----------------------+-----------------------+
| RHEL9               | PASS               | PASS             | SKIPPED           | SKIPPED              | SKIPPED               |
+---------------------+--------------------+------------------+-------------------+----------------------+-----------------------+
| Ubuntu 20.04        | PASS               | PASS             | SKIPPED           | SKIPPED              | SKIPPED               |
+---------------------+--------------------+------------------+-------------------+----------------------+-----------------------+
| Ubuntu 22.04        | PASS               | PASS             | PASS              | SKIPPED              | SKIPPED               |
+---------------------+--------------------+------------------+-------------------+----------------------+-----------------------+
| Ubuntu 24.04        | PASS               | PASS             | PASS              | SKIPPED              | SKIPPED               |
+---------------------+--------------------+------------------+-------------------+----------------------+-----------------------+
| FreeBSD 13.3        | PASS               | SKIPPED          | SKIPPED           | SKIPPED              | SKIPPED               |
+---------------------+--------------------+------------------+-------------------+----------------------+-----------------------+
| Windows Server 2022 | SKIPPED            | SKIPPED          | SKIPPED           | PASS                 | PASS                  |
+---------------------+--------------------+------------------+-------------------+----------------------+-----------------------+


CentOS Stream 9
	Kernel: Depends on container host
	Compiler: gcc 11.4.1 20231218 (Red Hat 11.4.1-3)

Debian Bullseye
	Kernel: Depends on container host
	Compiler: gcc (Debian 10.2.1-6) 10.2.1 20210110

Debian 12
	Kernel: Depends on container host
	Compiler: gcc (Debian 12.2.0-14) 12.2.0

Fedora 39 (Clang)
	Kernel: Depends on container host
	Compiler: clang 17.0.6 (Fedora 17.0.6-2.fc39)

Fedora 38
	Kernel: Depends on container host
	Compiler: gcc 13.2.1 20240316 (Red Hat 13.2.1-7)

Fedora 37
	Kernel: Depends on container host system
	Compiler: gcc 12.3.1 20230508 (Red Hat 12.3.1-1)

Fedora 40
	Kernel: Depends on container host
	Compiler: gcc 14.2.1 20240801 (Red Hat 14.2.1-1)

Fedora 40 (Clang)
	Kernel: Depends on container host
	Compiler: clang 18.1.6 (Fedora 18.1.6-3.fc40)

Fedora 39
	Kernel: Depends on container host
	Compiler: gcc 13.3.1 20240522 (Red Hat 13.3.1-1)

openSUSE Leap 15
	Kernel: Depends on container host
	Compiler: gcc (SUSE Linux) 7.5.0

RHEL8
	Kernel: Depends on container host
	Compiler: gcc 8.5.0 20210514 (Red Hat 8.5.0-22)

RHEL9
	Kernel: Depends on container host
	Compiler: gcc 11.4.1 20231218 (Red Hat 11.4.1-3)

Ubuntu 20.04
	Kernel: Depends on container host
	Compiler: gcc (Ubuntu 9.4.0-1ubuntu1~20.04.2) 9.4.0

Ubuntu 22.04
	Kernel: Depends on container host
	Compiler: gcc (Ubuntu 11.4.0-1ubuntu1~22.04) 11.4.0

Ubuntu 24.04
	Kernel: Depends on container host
	Compiler: gcc (Ubuntu 13.2.0-23ubuntu4) 13.2.0

FreeBSD 13.3
	Kernel: 13.3-RELEASE-p5
	Compiler: clang 17.0.6

Windows Server 2022
	Kernel: 10.0.20348.2031
	Compiler: clang 15.0.7, gcc 14.1.0 (MinGW), and MSVC VS 19.39.33521

To view detailed results, visit:
https://lab.dpdk.org/results/dashboard/patchsets/31122/

UNH-IOL DPDK Community Lab

To manage your email subscriptions, visit: 
https://lab.dpdk.org/results/dashboard/preferences/subscriptions/


More information about the test-report mailing list