|SUCCESS| pw144409-144411 [PATCH] [V3,3/3] net/mlx5/hws: print CQE e
dpdklab at iol.unh.edu
dpdklab at iol.unh.edu
Tue Sep 24 23:21:22 CEST 2024
Test-Label: iol-sample-apps-testing
Test-Status: SUCCESS
http://dpdk.org/patch/144411
_Testing PASS_
Submitter: Minggang Li(Gavin) <gavinl at nvidia.com>
Date: Tuesday, September 24 2024 10:52:58
DPDK git baseline: Repo:dpdk
Branch: master
CommitID:cba452c8a72c22c0f60fa6313f79c825afcabe07
144409-144411 --> testing pass
Upstream job id: ACVP-FIPS-testing#7052
Test environment and result as below:
+--------------------+----------------------+----------------------+
| Environment | compressdev_zlib_pmd | dpdk_fips_validation |
+====================+======================+======================+
| Ubuntu 22.04 (ARM) | PASS | SKIPPED |
+--------------------+----------------------+----------------------+
| Ubuntu 22.04 | PASS | SKIPPED |
+--------------------+----------------------+----------------------+
| Ubuntu 20.04 | SKIPPED | PASS |
+--------------------+----------------------+----------------------+
Ubuntu 22.04 (ARM)
Kernel: 5.15.0-97-generic
Compiler: gcc gcc (Ubuntu 11.4.0-1ubuntu1~22.04) 11.4.0
Ubuntu 22.04
Kernel: 5.15.0-100-generic
Compiler: gcc gcc (Ubuntu 11.4.0-1ubuntu1~22.04) 11.4.0
Ubuntu 20.04
Kernel: Depends on container host
Compiler: gcc (Ubuntu 9.4.0-1ubuntu1~20.04.2) 9.4.0
To view detailed results, visit:
https://lab.dpdk.org/results/dashboard/patchsets/31123/
UNH-IOL DPDK Community Lab
To manage your email subscriptions, visit:
https://lab.dpdk.org/results/dashboard/preferences/subscriptions/
More information about the test-report
mailing list