|SUCCESS| [GIT MASTER] d20fd65f258afb5b572fe686b7d1032aeb95e079
dpdklab at iol.unh.edu
dpdklab at iol.unh.edu
Wed Sep 25 10:43:25 CEST 2024
_Testing PASS_
Branch: tags/v21.11
d20fd65f258afb5b572fe686b7d1032aeb95e079 --> testing pass
Upstream job id: Generic-DPDK-Compile-Meson#305392
Test environment and result as below:
+---------------------+-----------------------+----------------------+--------------------+
| Environment | dpdk_win_llvm_compile | dpdk_mingw64_compile | dpdk_meson_compile |
+=====================+=======================+======================+====================+
| Windows Server 2022 | PASS | PASS | SKIPPED |
+---------------------+-----------------------+----------------------+--------------------+
| FreeBSD 13.3 | SKIPPED | SKIPPED | PASS |
+---------------------+-----------------------+----------------------+--------------------+
| FreeBSD 14.1 | SKIPPED | SKIPPED | PASS |
+---------------------+-----------------------+----------------------+--------------------+
| CentOS Stream 9 | SKIPPED | SKIPPED | PASS |
+---------------------+-----------------------+----------------------+--------------------+
| Debian Bullseye | SKIPPED | SKIPPED | PASS |
+---------------------+-----------------------+----------------------+--------------------+
| Debian 12 | SKIPPED | SKIPPED | PASS |
+---------------------+-----------------------+----------------------+--------------------+
| Fedora 38 (Clang) | SKIPPED | SKIPPED | PASS |
+---------------------+-----------------------+----------------------+--------------------+
| Fedora 38 | SKIPPED | SKIPPED | PASS |
+---------------------+-----------------------+----------------------+--------------------+
| Fedora 39 (Clang) | SKIPPED | SKIPPED | PASS |
+---------------------+-----------------------+----------------------+--------------------+
| Fedora 39 | SKIPPED | SKIPPED | PASS |
+---------------------+-----------------------+----------------------+--------------------+
| Fedora 40 (Clang) | SKIPPED | SKIPPED | PASS |
+---------------------+-----------------------+----------------------+--------------------+
| Fedora 40 | SKIPPED | SKIPPED | PASS |
+---------------------+-----------------------+----------------------+--------------------+
| openSUSE Leap 15 | SKIPPED | SKIPPED | PASS |
+---------------------+-----------------------+----------------------+--------------------+
| RHEL8 | SKIPPED | SKIPPED | PASS |
+---------------------+-----------------------+----------------------+--------------------+
| RHEL9 | SKIPPED | SKIPPED | PASS |
+---------------------+-----------------------+----------------------+--------------------+
| Fedora 37 | SKIPPED | SKIPPED | PASS |
+---------------------+-----------------------+----------------------+--------------------+
Windows Server 2022
Kernel: 10.0.20348.2031
Compiler: clang 15.0.7, gcc 14.1.0 (MinGW), and MSVC VS 19.39.33521
FreeBSD 13.3
Kernel: 13.3-RELEASE-p5
Compiler: clang 17.0.6
FreeBSD 14.1
Kernel: 14.1-RELEASE-p3
Compiler: clang 18.1.5
CentOS Stream 9
Kernel: Depends on container host
Compiler: gcc 11.4.1 20231218 (Red Hat 11.4.1-3)
Debian Bullseye
Kernel: Depends on container host
Compiler: gcc (Debian 10.2.1-6) 10.2.1 20210110
Debian 12
Kernel: Depends on container host
Compiler: gcc (Debian 12.2.0-14) 12.2.0
Fedora 38 (Clang)
Kernel: Depends on container host
Compiler: clang 16.0.6 (Fedora 16.0.6-4.fc38)
Fedora 38
Kernel: Depends on container host
Compiler: gcc 13.2.1 20240316 (Red Hat 13.2.1-7)
Fedora 39 (Clang)
Kernel: Depends on container host
Compiler: clang 17.0.6 (Fedora 17.0.6-2.fc39)
Fedora 39
Kernel: Depends on container host
Compiler: gcc 13.3.1 20240522 (Red Hat 13.3.1-1)
Fedora 40 (Clang)
Kernel: Depends on container host
Compiler: clang 18.1.6 (Fedora 18.1.6-3.fc40)
Fedora 40
Kernel: Depends on container host
Compiler: gcc 14.2.1 20240801 (Red Hat 14.2.1-1)
openSUSE Leap 15
Kernel: Depends on container host
Compiler: gcc (SUSE Linux) 7.5.0
RHEL8
Kernel: Depends on container host
Compiler: gcc 8.5.0 20210514 (Red Hat 8.5.0-22)
RHEL9
Kernel: Depends on container host
Compiler: gcc 11.4.1 20231218 (Red Hat 11.4.1-3)
Fedora 37
Kernel: Depends on container host system
Compiler: gcc 12.3.1 20230508 (Red Hat 12.3.1-1)
To view detailed results, visit:
https://lab.dpdk.org/results/dashboard/tarballs/30725/
UNH-IOL DPDK Community Lab
To manage your email subscriptions, visit:
https://lab.dpdk.org/results/dashboard/preferences/subscriptions/
More information about the test-report
mailing list