|SUCCESS| pw144433-144438 [PATCH] [v2,7/7] ethdev: add trace points
dpdklab at iol.unh.edu
dpdklab at iol.unh.edu
Thu Sep 26 08:27:39 CEST 2024
Test-Label: iol-compile-amd64-testing
Test-Status: SUCCESS
http://dpdk.org/patch/144438
_Testing PASS_
Submitter: Alexander Kozyrev <akozyrev at nvidia.com>
Date: Wednesday, September 25 2024 18:05:32
DPDK git baseline: Repo:dpdk
Branch: master
CommitID:177572d1fa5aad1f3c13206b6fae0195d7e55934
144433-144438 --> testing pass
Upstream job id: Windows-Compile-DPDK-Native#22501
Test environment and result as below:
+---------------------+----------------------+-----------------------+--------------------+-------------------+
| Environment | dpdk_mingw64_compile | dpdk_win_llvm_compile | dpdk_meson_compile | dpdk_msvc_compile |
+=====================+======================+=======================+====================+===================+
| Windows Server 2022 | PASS | PASS | SKIPPED | PASS |
+---------------------+----------------------+-----------------------+--------------------+-------------------+
| FreeBSD 13.3 | SKIPPED | SKIPPED | PASS | SKIPPED |
+---------------------+----------------------+-----------------------+--------------------+-------------------+
| FreeBSD 14.1 | SKIPPED | SKIPPED | PASS | SKIPPED |
+---------------------+----------------------+-----------------------+--------------------+-------------------+
Windows Server 2022
Kernel: 10.0.20348.2031
Compiler: clang 15.0.7, gcc 14.1.0 (MinGW), and MSVC VS 19.39.33521
FreeBSD 13.3
Kernel: 13.3-RELEASE-p5
Compiler: clang 17.0.6
FreeBSD 14.1
Kernel: 14.1-RELEASE-p3
Compiler: clang 18.1.5
To view detailed results, visit:
https://lab.dpdk.org/results/dashboard/patchsets/31136/
UNH-IOL DPDK Community Lab
To manage your email subscriptions, visit:
https://lab.dpdk.org/results/dashboard/preferences/subscriptions/
More information about the test-report
mailing list