|SUCCESS| pw144459-144476 [PATCH] [v2,18/18] net/cnxk: support Tx mu
dpdklab at iol.unh.edu
dpdklab at iol.unh.edu
Thu Sep 26 21:17:15 CEST 2024
Test-Label: iol-compile-amd64-testing
Test-Status: SUCCESS
http://dpdk.org/patch/144476
_Testing PASS_
Submitter: Nithin Dabilpuram <ndabilpuram at marvell.com>
Date: Thursday, September 26 2024 16:01:58
DPDK git baseline: Repo:dpdk
Branch: master
CommitID:ae03728dd31175d055f7df4e141f9944eccf9444
144459-144476 --> testing pass
Upstream job id: Windows-Compile-DPDK-VS#3222
Test environment and result as below:
+---------------------+-----------------------+----------------------+-------------------+--------------------+
| Environment | dpdk_win_llvm_compile | dpdk_mingw64_compile | dpdk_msvc_compile | dpdk_meson_compile |
+=====================+=======================+======================+===================+====================+
| Windows Server 2022 | PASS | PASS | PASS | SKIPPED |
+---------------------+-----------------------+----------------------+-------------------+--------------------+
| FreeBSD 13.3 | SKIPPED | SKIPPED | SKIPPED | PASS |
+---------------------+-----------------------+----------------------+-------------------+--------------------+
| FreeBSD 14.1 | SKIPPED | SKIPPED | SKIPPED | PASS |
+---------------------+-----------------------+----------------------+-------------------+--------------------+
Windows Server 2022
Kernel: 10.0.20348.2031
Compiler: clang 15.0.7, gcc 14.1.0 (MinGW), and MSVC VS 19.39.33521
FreeBSD 13.3
Kernel: 13.3-RELEASE-p5
Compiler: clang 17.0.6
FreeBSD 14.1
Kernel: 14.1-RELEASE-p3
Compiler: clang 18.1.5
To view detailed results, visit:
https://lab.dpdk.org/results/dashboard/patchsets/31148/
UNH-IOL DPDK Community Lab
To manage your email subscriptions, visit:
https://lab.dpdk.org/results/dashboard/preferences/subscriptions/
More information about the test-report
mailing list