|SUCCESS| pw144492 [PATCH] [v3] net/nfp: implement the device packet

dpdklab at iol.unh.edu dpdklab at iol.unh.edu
Fri Sep 27 06:38:16 CEST 2024


Test-Label: iol-compile-amd64-testing
Test-Status: SUCCESS
http://dpdk.org/patch/144492

_Testing PASS_

Submitter: Chaoyong He <chaoyong.he at corigine.com>
Date: Friday, September 27 2024 03:10:54 
DPDK git baseline: Repo:dpdk
  Branch: master
  CommitID:483f451e5f3b6b28678e6e0658c611be2a817f6c

144492 --> testing pass

Upstream job id: Windows-Compile-DPDK-Native#22526

Test environment and result as below:

+---------------------+-----------------------+----------------------+-------------------+--------------------+
|     Environment     | dpdk_win_llvm_compile | dpdk_mingw64_compile | dpdk_msvc_compile | dpdk_meson_compile |
+=====================+=======================+======================+===================+====================+
| Windows Server 2022 | PASS                  | PASS                 | PASS              | SKIPPED            |
+---------------------+-----------------------+----------------------+-------------------+--------------------+
| FreeBSD 13.3        | SKIPPED               | SKIPPED              | SKIPPED           | PASS               |
+---------------------+-----------------------+----------------------+-------------------+--------------------+
| FreeBSD 14.1        | SKIPPED               | SKIPPED              | SKIPPED           | PASS               |
+---------------------+-----------------------+----------------------+-------------------+--------------------+


Windows Server 2022
	Kernel: 10.0.20348.2031
	Compiler: clang 15.0.7, gcc 14.1.0 (MinGW), and MSVC VS 19.39.33521

FreeBSD 13.3
	Kernel: 13.3-RELEASE-p5
	Compiler: clang 17.0.6

FreeBSD 14.1
	Kernel: 14.1-RELEASE-p3
	Compiler: clang 18.1.5

To view detailed results, visit:
https://lab.dpdk.org/results/dashboard/patchsets/31158/

UNH-IOL DPDK Community Lab

To manage your email subscriptions, visit: 
https://lab.dpdk.org/results/dashboard/preferences/subscriptions/


More information about the test-report mailing list