|SUCCESS| [GIT MASTER] 3fa84cc95c2423cf582657eef0b67d6a4fd0d64a

dpdklab at iol.unh.edu dpdklab at iol.unh.edu
Sat Sep 28 09:16:58 CEST 2024


_Testing PASS_

Branch: dpdk-next-net

3fa84cc95c2423cf582657eef0b67d6a4fd0d64a --> testing pass

Upstream job id: Generic-VM-DPDK-Compile-Meson#29764

Test environment and result as below:

+---------------------+-------------------+----------------------+-----------------------+--------------------+
|     Environment     | dpdk_msvc_compile | dpdk_mingw64_compile | dpdk_win_llvm_compile | dpdk_meson_compile |
+=====================+===================+======================+=======================+====================+
| Windows Server 2022 | PASS              | PASS                 | PASS                  | SKIPPED            |
+---------------------+-------------------+----------------------+-----------------------+--------------------+
| FreeBSD 13.3        | SKIPPED           | SKIPPED              | SKIPPED               | PASS               |
+---------------------+-------------------+----------------------+-----------------------+--------------------+
| FreeBSD 14.1        | SKIPPED           | SKIPPED              | SKIPPED               | PASS               |
+---------------------+-------------------+----------------------+-----------------------+--------------------+


Windows Server 2022
	Kernel: 10.0.20348.2031
	Compiler: clang 15.0.7, gcc 14.1.0 (MinGW), and MSVC VS 19.39.33521

FreeBSD 13.3
	Kernel: 13.3-RELEASE-p5
	Compiler: clang 17.0.6

FreeBSD 14.1
	Kernel: 14.1-RELEASE-p3
	Compiler: clang 18.1.5

To view detailed results, visit:
https://lab.dpdk.org/results/dashboard/tarballs/30761/

UNH-IOL DPDK Community Lab

To manage your email subscriptions, visit: 
https://lab.dpdk.org/results/dashboard/preferences/subscriptions/


More information about the test-report mailing list