|SUCCESS| pw144608 [PATCH] MAINTAINERS: remove Raveendra Padasalagi
dpdklab at iol.unh.edu
dpdklab at iol.unh.edu
Sat Sep 28 23:41:13 CEST 2024
Test-Label: iol-compile-amd64-testing
Test-Status: SUCCESS
http://dpdk.org/patch/144608
_Testing PASS_
Submitter: Stephen Hemminger <stephen at networkplumber.org>
Date: Saturday, September 28 2024 16:53:07
DPDK git baseline: Repo:dpdk
Branch: master
CommitID:bf0ff8df59c7e32f95c0b542cc4a7918f8a3da84
144608 --> testing pass
Upstream job id: Windows-Compile-DPDK-Native#22556
Test environment and result as below:
+---------------------+-----------------------+-------------------+----------------------+--------------------+
| Environment | dpdk_win_llvm_compile | dpdk_msvc_compile | dpdk_mingw64_compile | dpdk_meson_compile |
+=====================+=======================+===================+======================+====================+
| Windows Server 2022 | PASS | PASS | PASS | SKIPPED |
+---------------------+-----------------------+-------------------+----------------------+--------------------+
| FreeBSD 13.3 | SKIPPED | SKIPPED | SKIPPED | PASS |
+---------------------+-----------------------+-------------------+----------------------+--------------------+
| FreeBSD 14.1 | SKIPPED | SKIPPED | SKIPPED | PASS |
+---------------------+-----------------------+-------------------+----------------------+--------------------+
Windows Server 2022
Kernel: 10.0.20348.2031
Compiler: clang 15.0.7, gcc 14.1.0 (MinGW), and MSVC VS 19.39.33521
FreeBSD 13.3
Kernel: 13.3-RELEASE-p5
Compiler: clang 17.0.6
FreeBSD 14.1
Kernel: 14.1-RELEASE-p3
Compiler: clang 18.1.5
To view detailed results, visit:
https://lab.dpdk.org/results/dashboard/patchsets/31169/
UNH-IOL DPDK Community Lab
To manage your email subscriptions, visit:
https://lab.dpdk.org/results/dashboard/preferences/subscriptions/
More information about the test-report
mailing list