|SUCCESS| pw144611-144614 [PATCH] [RESEND,v7,5/5] app/testpmd: stop

dpdklab at iol.unh.edu dpdklab at iol.unh.edu
Sun Sep 29 10:07:50 CEST 2024


Test-Label: iol-compile-amd64-testing
Test-Status: SUCCESS
http://dpdk.org/patch/144614

_Testing PASS_

Submitter: Huisong Li <lihuisong at huawei.com>
Date: Sunday, September 29 2024 05:52:40 
DPDK git baseline: Repo:dpdk
  Branch: master
  CommitID:3fa84cc95c2423cf582657eef0b67d6a4fd0d64a

144611-144614 --> testing pass

Upstream job id: Generic-VM-DPDK-Compile-Meson#29780

Test environment and result as below:

+---------------------+----------------------+-----------------------+-------------------+--------------------+
|     Environment     | dpdk_mingw64_compile | dpdk_win_llvm_compile | dpdk_msvc_compile | dpdk_meson_compile |
+=====================+======================+=======================+===================+====================+
| Windows Server 2022 | PASS                 | PASS                  | PASS              | SKIPPED            |
+---------------------+----------------------+-----------------------+-------------------+--------------------+
| FreeBSD 13.3        | SKIPPED              | SKIPPED               | SKIPPED           | PASS               |
+---------------------+----------------------+-----------------------+-------------------+--------------------+
| FreeBSD 14.1        | SKIPPED              | SKIPPED               | SKIPPED           | PASS               |
+---------------------+----------------------+-----------------------+-------------------+--------------------+


Windows Server 2022
	Kernel: 10.0.20348.2031
	Compiler: clang 15.0.7, gcc 14.1.0 (MinGW), and MSVC VS 19.39.33521

FreeBSD 13.3
	Kernel: 13.3-RELEASE-p5
	Compiler: clang 17.0.6

FreeBSD 14.1
	Kernel: 14.1-RELEASE-p3
	Compiler: clang 18.1.5

To view detailed results, visit:
https://lab.dpdk.org/results/dashboard/patchsets/31172/

UNH-IOL DPDK Community Lab

To manage your email subscriptions, visit: 
https://lab.dpdk.org/results/dashboard/preferences/subscriptions/


More information about the test-report mailing list