|SUCCESS| pw144651-144668 [PATCH] [v3,18/18] net/dpaa: fix reallocat

dpdklab at iol.unh.edu dpdklab at iol.unh.edu
Mon Sep 30 16:13:53 CEST 2024


Test-Label: iol-compile-amd64-testing
Test-Status: SUCCESS
http://dpdk.org/patch/144668

_Testing PASS_

Submitter: Hemant Agrawal <hemant.agrawal at nxp.com>
Date: Monday, September 30 2024 10:29:46 
DPDK git baseline: Repo:dpdk
  Branch: master
  CommitID:9456ac767bb1c2aa2a8de460ebe7318105ce2135

144651-144668 --> testing pass

Upstream job id: Windows-Compile-DPDK-Native#22591

Test environment and result as below:

+---------------------+--------------------+----------------------+-------------------+-----------------------+
|     Environment     | dpdk_meson_compile | dpdk_mingw64_compile | dpdk_msvc_compile | dpdk_win_llvm_compile |
+=====================+====================+======================+===================+=======================+
| FreeBSD 13.3        | PASS               | SKIPPED              | SKIPPED           | SKIPPED               |
+---------------------+--------------------+----------------------+-------------------+-----------------------+
| FreeBSD 14.1        | PASS               | SKIPPED              | SKIPPED           | SKIPPED               |
+---------------------+--------------------+----------------------+-------------------+-----------------------+
| Windows Server 2022 | SKIPPED            | PASS                 | PASS              | PASS                  |
+---------------------+--------------------+----------------------+-------------------+-----------------------+


FreeBSD 13.3
	Kernel: 13.3-RELEASE-p5
	Compiler: clang 17.0.6

FreeBSD 14.1
	Kernel: 14.1-RELEASE-p3
	Compiler: clang 18.1.5

Windows Server 2022
	Kernel: 10.0.20348.2031
	Compiler: clang 15.0.7, gcc 14.1.0 (MinGW), and MSVC VS 19.39.33521

To view detailed results, visit:
https://lab.dpdk.org/results/dashboard/patchsets/31182/

UNH-IOL DPDK Community Lab

To manage your email subscriptions, visit: 
https://lab.dpdk.org/results/dashboard/preferences/subscriptions/


More information about the test-report mailing list