|SUCCESS| pw144687 [PATCH] [v2] net/ice/base: update README

dpdklab at iol.unh.edu dpdklab at iol.unh.edu
Mon Sep 30 21:46:30 CEST 2024


Test-Label: iol-compile-amd64-testing
Test-Status: SUCCESS
http://dpdk.org/patch/144687

_Testing PASS_

Submitter: Stokes, Ian <ian.stokes at intel.com>
Date: Monday, September 30 2024 12:22:11 
DPDK git baseline: Repo:dpdk
  Branch: master
  CommitID:b8cdc85305107dfeb54dd35ad2c00b0632c71044

144687 --> testing pass

Upstream job id: Windows-Compile-DPDK-Native#22602

Test environment and result as below:

+---------------------+--------------------+-----------------------+-------------------+----------------------+
|     Environment     | dpdk_meson_compile | dpdk_win_llvm_compile | dpdk_msvc_compile | dpdk_mingw64_compile |
+=====================+====================+=======================+===================+======================+
| FreeBSD 13.4        | PASS               | SKIPPED               | SKIPPED           | SKIPPED              |
+---------------------+--------------------+-----------------------+-------------------+----------------------+
| FreeBSD 14.1        | PASS               | SKIPPED               | SKIPPED           | SKIPPED              |
+---------------------+--------------------+-----------------------+-------------------+----------------------+
| Windows Server 2022 | SKIPPED            | PASS                  | PASS              | PASS                 |
+---------------------+--------------------+-----------------------+-------------------+----------------------+


FreeBSD 13.4
	Kernel: 13.4-RELEASE-p1
	Compiler: clang 18.1.6

FreeBSD 14.1
	Kernel: 14.1-RELEASE-p3
	Compiler: clang 18.1.5

Windows Server 2022
	Kernel: 10.0.20348.2031
	Compiler: clang 15.0.7, gcc 14.1.0 (MinGW), and MSVC VS 19.39.33521

To view detailed results, visit:
https://lab.dpdk.org/results/dashboard/patchsets/31184/

UNH-IOL DPDK Community Lab

To manage your email subscriptions, visit: 
https://lab.dpdk.org/results/dashboard/preferences/subscriptions/


More information about the test-report mailing list