|WARNING| pw150796-150797 [PATCH] [v5,2/2] common/idpf: enable AVX2

dpdklab at iol.unh.edu dpdklab at iol.unh.edu
Tue Feb 4 17:39:52 CET 2025


Test-Label: iol-unit-amd64-testing
Test-Status: WARNING
http://dpdk.org/patch/150797

_Testing issues_

Submitter: Shaiq Wani <shaiq.wani at intel.com>
Date: Monday, February 03 2025 07:55:08 
DPDK git baseline: Repo:dpdk
  Branch: master
  CommitID:abf3b7b7b361f8aa8d75ae00d449b588a0cdcda3

150796-150797 --> testing issues

Upstream job id: Generic-Unit-Test-DPDK#311421

Test environment and result as below:

+---------------------+----------------+
|     Environment     | dpdk_unit_test |
+=====================+================+
| RHEL8               | PASS           |
+---------------------+----------------+
| Ubuntu 20.04        | PASS           |
+---------------------+----------------+
| CentOS Stream 9     | WARN           |
+---------------------+----------------+
| Fedora 41           | PASS           |
+---------------------+----------------+
| Debian 12           | PASS           |
+---------------------+----------------+
| Fedora 41 (Clang)   | PASS           |
+---------------------+----------------+
| RHEL9               | PASS           |
+---------------------+----------------+
| Fedora 40 (Clang)   | PASS           |
+---------------------+----------------+
| Ubuntu 22.04        | PASS           |
+---------------------+----------------+
| Debian Bullseye     | PASS           |
+---------------------+----------------+
| Ubuntu 24.04        | PASS           |
+---------------------+----------------+
| Fedora 40           | PASS           |
+---------------------+----------------+
| Windows Server 2022 | PASS           |
+---------------------+----------------+

==== 20 line log output for CentOS Stream 9 (dpdk_unit_test): ====
Compiler for C supports arguments -Wcast-qual: YES
Compiler for C supports arguments -Wdeprecated: YES
Compiler for C supports arguments -Wformat: YES
Compiler for C supports arguments -Wformat-nonliteral: YES
Compiler for C supports arguments -Wformat-security: YES
Compiler for C supports arguments -Wmissing-declarations: YES
Compiler for C supports arguments -Wmissing-prototypes: YES
Compiler for C supports arguments -Wnested-externs: YES
Compiler for C supports arguments -Wold-style-definition: YES
Compiler for C supports arguments -Wpointer-arith: YES
Compiler for C supports arguments -Wsign-compare: YES
Compiler for C supports arguments -Wstrict-prototypes: YES
Compiler for C supports arguments -Wundef: YES
Compiler for C supports arguments -Wwrite-strings: YES
Compiler for C supports arguments -Wno-packed-not-aligned: YES
Compiler for C supports arguments -Wno-missing-field-initializers: YES

config/arm/meson.build:792:16: ERROR: Problem encountered: Error when getting Arm Implementer ID and part number.

A full log can be found at /home-local/jenkins-local/jenkins-agent/workspace/Generic-Unit-Test-DPDK at 2/dpdk/build/meson-logs/meson-log.txt
==== End log output ====

RHEL8
	Kernel: Depends on container host
	Compiler: gcc 8.5.0 20210514 (Red Hat 8.5.0-22)

Ubuntu 20.04
	Kernel: Depends on container host
	Compiler: gcc (Ubuntu 9.4.0-1ubuntu1~20.04.2) 9.4.0

CentOS Stream 9
	Kernel: Depends on container host
	Compiler: gcc 11.5.0 20240719 (Red Hat 11.5.0-2)

Fedora 41
	Kernel: Depends on container host
	Compiler: gcc 14.2.1 20240912 (Red Hat 14.2.1-3)

Debian 12
	Kernel: Depends on container host
	Compiler: gcc (Debian 12.2.0-14) 12.2.0

Fedora 41 (Clang)
	Kernel: Depends on container host
	Compiler: clang 19.1.5 (Fedora 19.1.5-1.fc41)

RHEL9
	Kernel: Depends on container host
	Compiler: gcc 11.5.0 20240719 (Red Hat 11.5.0-2)

Fedora 40 (Clang)
	Kernel: Depends on container host
	Compiler: clang 18.1.8 (Fedora 18.1.8-1.fc40)

Ubuntu 22.04
	Kernel: Depends on container host
	Compiler: gcc (Ubuntu 11.4.0-1ubuntu1~22.04) 11.4.0

Debian Bullseye
	Kernel: Depends on container host
	Compiler: gcc (Debian 10.2.1-6) 10.2.1 20210110

Ubuntu 24.04
	Kernel: Depends on container host
	Compiler: gcc (Ubuntu 13.3.0-6ubuntu2~24.04) 13.3.0

Fedora 40
	Kernel: Depends on container host
	Compiler: gcc 14.2.1 20240912 (Red Hat 14.2.1-3)

Windows Server 2022
	Kernel: 10.0.20348.2031
	Compiler: clang 15.0.7, gcc 14.1.0 (MinGW), and MSVC VS 19.39.33521

To view detailed results, visit:
https://lab.dpdk.org/results/dashboard/patchsets/32481/

UNH-IOL DPDK Community Lab

To manage your email subscriptions, visit: 
https://lab.dpdk.org/results/dashboard/preferences/subscriptions/


More information about the test-report mailing list