|SUCCESS| pw150895-150900 [PATCH] [v4,7/7] mldev: eliminate dependen
dpdklab at iol.unh.edu
dpdklab at iol.unh.edu
Tue Feb 4 22:41:05 CET 2025
Test-Label: iol-compile-amd64-testing
Test-Status: SUCCESS
http://dpdk.org/patch/150900
_Testing PASS_
Submitter: Andre Muezerie <andremue at linux.microsoft.com>
Date: Tuesday, February 04 2025 18:54:31
DPDK git baseline: Repo:dpdk
Branch: master
CommitID:dc4ce7c2538b713e16887eb598da309bc7b4d528
150895-150900 --> testing pass
Upstream job id: Windows-Compile-DPDK-Native#26300
Test environment and result as below:
+---------------------+-------------------+--------------------+-------------------------+----------------------+
| Environment | dpdk_msvc_compile | dpdk_meson_compile | dpdk_llvm_clang_compile | dpdk_mingw64_compile |
+=====================+===================+====================+=========================+======================+
| Windows Server 2022 | PASS | SKIPPED | PASS | PASS |
+---------------------+-------------------+--------------------+-------------------------+----------------------+
| FreeBSD 13.4 | SKIPPED | PASS | SKIPPED | SKIPPED |
+---------------------+-------------------+--------------------+-------------------------+----------------------+
| FreeBSD 14.2 | SKIPPED | PASS | SKIPPED | SKIPPED |
+---------------------+-------------------+--------------------+-------------------------+----------------------+
Windows Server 2022
Kernel: 10.0.20348.2031
Compiler: clang 15.0.7, gcc 14.1.0 (MinGW), and MSVC VS 19.39.33521
FreeBSD 13.4
Kernel: 13.4-RELEASE-p1
Compiler: clang 18.1.6
FreeBSD 14.2
Kernel: 14.2-RELEASE
Compiler: clang 18.1.6
To view detailed results, visit:
https://lab.dpdk.org/results/dashboard/patchsets/32492/
UNH-IOL DPDK Community Lab
To manage your email subscriptions, visit:
https://lab.dpdk.org/results/dashboard/preferences/subscriptions/
More information about the test-report
mailing list