|SUCCESS| pw150905-150924 [PATCH] [v21,27/27] config: add -Wvla proj
dpdklab at iol.unh.edu
dpdklab at iol.unh.edu
Wed Feb 5 00:01:02 CET 2025
Test-Label: iol-compile-amd64-testing
Test-Status: SUCCESS
http://dpdk.org/patch/150924
_Testing PASS_
Submitter: Andre Muezerie <andremue at linux.microsoft.com>
Date: Tuesday, February 04 2025 20:57:18
DPDK git baseline: Repo:dpdk
Branch: master
CommitID:dc4ce7c2538b713e16887eb598da309bc7b4d528
150905-150924 --> testing pass
Upstream job id: Generic-VM-DPDK-Compile-Meson#33040
Test environment and result as below:
+---------------------+-------------------+--------------------+
| Environment | dpdk_msvc_compile | dpdk_meson_compile |
+=====================+===================+====================+
| Windows Server 2022 | PASS | SKIPPED |
+---------------------+-------------------+--------------------+
| FreeBSD 13.4 | SKIPPED | PASS |
+---------------------+-------------------+--------------------+
| FreeBSD 14.2 | SKIPPED | PASS |
+---------------------+-------------------+--------------------+
Windows Server 2022
Kernel: 10.0.20348.2031
Compiler: clang 15.0.7, gcc 14.1.0 (MinGW), and MSVC VS 19.39.33521
FreeBSD 13.4
Kernel: 13.4-RELEASE-p1
Compiler: clang 18.1.6
FreeBSD 14.2
Kernel: 14.2-RELEASE
Compiler: clang 18.1.6
To view detailed results, visit:
https://lab.dpdk.org/results/dashboard/patchsets/32494/
UNH-IOL DPDK Community Lab
To manage your email subscriptions, visit:
https://lab.dpdk.org/results/dashboard/preferences/subscriptions/
More information about the test-report
mailing list