|SUCCESS| [GIT MASTER] 595535be66b103f7ce3ba61939b8013032987404

dpdklab at iol.unh.edu dpdklab at iol.unh.edu
Wed Feb 5 08:57:59 CET 2025


_Testing PASS_

Branch: dpdk-next-net

595535be66b103f7ce3ba61939b8013032987404 --> testing pass

Upstream job id: Generic-VM-DPDK-Compile-Meson#33052

Test environment and result as below:

+---------------------+-------------------+--------------------+
|     Environment     | dpdk_msvc_compile | dpdk_meson_compile |
+=====================+===================+====================+
| Windows Server 2022 | PASS              | SKIPPED            |
+---------------------+-------------------+--------------------+
| FreeBSD 13.4        | SKIPPED           | PASS               |
+---------------------+-------------------+--------------------+
| FreeBSD 14.2        | SKIPPED           | PASS               |
+---------------------+-------------------+--------------------+


Windows Server 2022
	Kernel: 10.0.20348.2031
	Compiler: clang 15.0.7, gcc 14.1.0 (MinGW), and MSVC VS 19.39.33521

FreeBSD 13.4
	Kernel: 13.4-RELEASE-p1
	Compiler: clang 18.1.6

FreeBSD 14.2
	Kernel: 14.2-RELEASE
	Compiler: clang 18.1.6

To view detailed results, visit:
https://lab.dpdk.org/results/dashboard/tarballs/32449/

UNH-IOL DPDK Community Lab

To manage your email subscriptions, visit: 
https://lab.dpdk.org/results/dashboard/preferences/subscriptions/


More information about the test-report mailing list